BEGIN:VCALENDAR
VERSION:2.0
PRODID:-//der-energieheiler.com - ECPv6.15.18//NONSGML v1.0//EN
CALSCALE:GREGORIAN
METHOD:PUBLISH
X-WR-CALNAME:der-energieheiler.com
X-ORIGINAL-URL:https://www.der-energieheiler.de
X-WR-CALDESC:Veranstaltungen für der-energieheiler.com
REFRESH-INTERVAL;VALUE=DURATION:PT1H
X-Robots-Tag:noindex
X-PUBLISHED-TTL:PT1H
BEGIN:VTIMEZONE
TZID:Europe/Berlin
BEGIN:DAYLIGHT
TZOFFSETFROM:+0100
TZOFFSETTO:+0200
TZNAME:CEST
DTSTART:20240331T010000
END:DAYLIGHT
BEGIN:STANDARD
TZOFFSETFROM:+0200
TZOFFSETTO:+0100
TZNAME:CET
DTSTART:20241027T010000
END:STANDARD
BEGIN:DAYLIGHT
TZOFFSETFROM:+0100
TZOFFSETTO:+0200
TZNAME:CEST
DTSTART:20250330T010000
END:DAYLIGHT
BEGIN:STANDARD
TZOFFSETFROM:+0200
TZOFFSETTO:+0100
TZNAME:CET
DTSTART:20251026T010000
END:STANDARD
BEGIN:DAYLIGHT
TZOFFSETFROM:+0100
TZOFFSETTO:+0200
TZNAME:CEST
DTSTART:20260329T010000
END:DAYLIGHT
BEGIN:STANDARD
TZOFFSETFROM:+0200
TZOFFSETTO:+0100
TZNAME:CET
DTSTART:20261025T010000
END:STANDARD
END:VTIMEZONE
BEGIN:VEVENT
DTSTART;VALUE=DATE:20250718
DTEND;VALUE=DATE:20250721
DTSTAMP:20260420T061848
CREATED:20240215T112717Z
LAST-MODIFIED:20250224T202109Z
UID:8138-1752796800-1753055999@www.der-energieheiler.de
SUMMARY:iLifeSOMM Days und WS-Day in LI iLifeSOMM Days 3d Team Jochen Radermacher Erfolgreich Menschen helfen Gesund zu sein Glücklich sein zu können
DESCRIPTION:iLifeSOMM Days und WS-Day in LI iLifeSOMM Days 3d \nTeam Jochen Radermacher Erfolgreich Menschen helfen Gesund zu sein Glücklich sein zu können\n\nBuchung per Mail info@der-energieheiler.de \n Messe Bergisch Gladbach   Messe Stand Köln 2022 \n\n\n\n\n  \nBeschreibung:\nDie iLifeSOMM Days stellen die erste Stufe der Grundausbildung im Rahmen der iLife Academy dar. Sie lernen hier von Profis die Grundlagen der Produkte iLifeSOMM und iLifeFIR\, wie man ein erfolgreiches Verkaufsgespräch führt und wie man Kunden unter Zuhilfenahme von Messmethoden (wie z.B. das iLifeHEMO) Lösungen aufzeigen kann. Letztlich ist auch der Marketingplan ein wesentlicher Bestandteil dieser Ausbildung\, um die hervorragenden Karrierechancen aufzuzeigen. \nInhalt: iLifeSOMM Days (FR+SA) inkl. Workshop Day (SO)\nBei Buchung von EZ oder DZ sind 2 x Nächtigung mit Frühstück inkludiert \nKostenbeitrag:\n\n\n\nEinzelzimmer (Frühbucher) \n\n\n\n\n\n\n\n Verfügbar \n 432.00 CHF – Standard \n\n\n\n\n\n\n\n Einzelzimmer \n\n\n\n\n\n\n\n Noch nicht im Verkauf \n 530.00 CHF – Standard \n\n\n\n\n\n\n\n Doppelzimmer (Frühbucher) \n\n\n\n\n\n\n\n Verfügbar \n 362.00 CHF – Standard \n\n\n\n\n\n\n\n Doppelzimmer \n\n\n\n\n\n\n\n Noch nicht im Verkauf \n 460.00 CHF – Standard \n\n\n\n\n\n\n\n ohne Nächtigung (Frühbucher) \n\n\n\n\n\n\n\n Verfügbar \n 233.00 CHF – Standard \n\n\n\n\n\n\n\n ohne Nächtigung \n\n\n\n\n\n\n\n Noch nicht im Verkauf \n 310.00 CHF – Standard \n\n\n\n\n\n\n\n Zusatznacht von DO-FR (Einzelzimmer) \n\n\n\n\n\n\n\n Verfügbar \n 110.00 CHF – Standard \n\n\n\n\n\n\n\n Zusatznacht von DO-FR (Doppelzimmer) \n\n\n\n\n\n\n\n Verfügbar \n 75.00 CHF – Standard \n\n\n\n\n\n\n\n\n\n\n\n\n\n\n\n\n\n\n\n\n\n\n\n\n\n\n\n\n  \n\n\nEckdaten\nBeginn\n18.07.2025 – 11:55 Uhr \nEnde\n20.07.2025 – 15:30 Uhr \nKategorie\niLifeSOMM Days 3d \nLocation:\nb_smart Hotel Widnau\nParkstr. 1\n9443 Widnau\nSchweiz \nBuchung per Mail     info@der-energieheiler.de oder ruf mich an +49 1631829984 Jochen  \nVortragende\n Otmar Candinas\nEnergetiker und SOMM Spezialist \n Andreas Guenther\nCEO\niLife International Est \n Martin Günther\nMarketing\niLife International Est
URL:https://www.der-energieheiler.de/event/8138/
LOCATION:b-smart Hotel Widnau Parkstr.1\, 9443 Widnau  Schweiz
CATEGORIES:Parkstr.1
END:VEVENT
END:VCALENDAR