BEGIN:VCALENDAR
VERSION:2.0
PRODID:-//der-energieheiler.com - ECPv6.15.18//NONSGML v1.0//EN
CALSCALE:GREGORIAN
METHOD:PUBLISH
X-WR-CALNAME:der-energieheiler.com
X-ORIGINAL-URL:https://www.der-energieheiler.de
X-WR-CALDESC:Veranstaltungen für der-energieheiler.com
REFRESH-INTERVAL;VALUE=DURATION:PT1H
X-Robots-Tag:noindex
X-PUBLISHED-TTL:PT1H
BEGIN:VTIMEZONE
TZID:Europe/Berlin
BEGIN:DAYLIGHT
TZOFFSETFROM:+0100
TZOFFSETTO:+0200
TZNAME:CEST
DTSTART:20240331T010000
END:DAYLIGHT
BEGIN:STANDARD
TZOFFSETFROM:+0200
TZOFFSETTO:+0100
TZNAME:CET
DTSTART:20241027T010000
END:STANDARD
BEGIN:DAYLIGHT
TZOFFSETFROM:+0100
TZOFFSETTO:+0200
TZNAME:CEST
DTSTART:20250330T010000
END:DAYLIGHT
BEGIN:STANDARD
TZOFFSETFROM:+0200
TZOFFSETTO:+0100
TZNAME:CET
DTSTART:20251026T010000
END:STANDARD
BEGIN:DAYLIGHT
TZOFFSETFROM:+0100
TZOFFSETTO:+0200
TZNAME:CEST
DTSTART:20260329T010000
END:DAYLIGHT
BEGIN:STANDARD
TZOFFSETFROM:+0200
TZOFFSETTO:+0100
TZNAME:CET
DTSTART:20261025T010000
END:STANDARD
END:VTIMEZONE
BEGIN:VEVENT
DTSTART;TZID=Europe/Berlin:20250728T193000
DTEND;TZID=Europe/Berlin:20250728T210000
DTSTAMP:20260420T043306
CREATED:20250217T202139Z
LAST-MODIFIED:20250728T071011Z
UID:8406-1753731000-1753736400@www.der-energieheiler.de
SUMMARY:Tiefenentspannung durch Klangmeditation in Hürth Gleuel mit Jochen Radermacher Exklusiv für maximal 8 Personen Entschleunigung
DESCRIPTION:Tiefenentspannung durch Klangmeditation in Hürth Gleuel mit Jochen Radermacher\n\n\nExklusiv für maximal 8 Personen Entschleunigung \nNur noch wenige Plätze frei \n \n \nRuhig und gleichmäßig erklingen die Klangschalen.\nTiefe innere Ruhe kehrt ein.\nDie Schwingung können Verspannungen Blockaden lösen.\nEin sorgenfreier erholsamer Raum kann entstehen.\nSein kann so schön sein! \n Diese Klangmeditation beginnt mit einer 15-minütige Einführung. Was bewirken der Klang und die Schwingung in meinem Körper? Danach genießen Sie 60 Minuten meditative Klänge mit einer geführten Geschichte. \nBringen Sie bitte eine Unterlage (z.B. Yogamatte)\, Kissen und eine Decke mit um sehr gut zu liegen. Gutes Liegen gute Unterlage ist sehr Wichtig um eine Stunde sehr gut zu liegen und zu Entspannen. Sie können auch gerne einen Liegestuhl für sich mitbringen. \nVeranstaltungsort: 50354 Hürth Gleuel Gildenweg 6\n \nTiefenentspannung durch Klangmeditation\n\nDatum: Montag 28.07.2025\, 19.30 Uhr (Einlass 19:10 Uhr) bis 20:30Uhr\n \nDatum: Montag 11.08.2025\, 19.30 Uhr (Einlass 19:10 Uhr) bis 20:30Uhr \nDatum: Montag 08.09.2025\, 19.30 Uhr (Einlass 19:10 Uhr) bis 20:30Uhr \nGegenwert: 25 EUR Maximal 8 Teilnehmer möglich\n \nAnmeldung bei:     \nDie Gesundheitspraxis-Klangraum \nSchule für Geistige-Körper-Energie-Arbeit\nJochen Radermacher\, Gildenweg 6\, 50354 Hürth Gleuel                                                              (Tel: 0163-1829984)\nE-Mail: info@der-energieheiler.de                                                                                                        Internet: www.Der-Energieheiler.de
URL:https://www.der-energieheiler.de/event/tiefenentspannung-durch-klangmeditation-in-huerth-gleuel-mit-jochen-radermacher/
LOCATION:50354 Hürth Gildenweg 6\, Deutschland
CATEGORIES:50354 Hürth Gleuel
END:VEVENT
END:VCALENDAR