BEGIN:VCALENDAR
VERSION:2.0
PRODID:-//der-energieheiler.com - ECPv6.15.18//NONSGML v1.0//EN
CALSCALE:GREGORIAN
METHOD:PUBLISH
X-ORIGINAL-URL:https://www.der-energieheiler.de
X-WR-CALDESC:Veranstaltungen für der-energieheiler.com
REFRESH-INTERVAL;VALUE=DURATION:PT1H
X-Robots-Tag:noindex
X-PUBLISHED-TTL:PT1H
BEGIN:VTIMEZONE
TZID:Europe/Berlin
BEGIN:DAYLIGHT
TZOFFSETFROM:+0100
TZOFFSETTO:+0200
TZNAME:CEST
DTSTART:20240331T010000
END:DAYLIGHT
BEGIN:STANDARD
TZOFFSETFROM:+0200
TZOFFSETTO:+0100
TZNAME:CET
DTSTART:20241027T010000
END:STANDARD
BEGIN:DAYLIGHT
TZOFFSETFROM:+0100
TZOFFSETTO:+0200
TZNAME:CEST
DTSTART:20250330T010000
END:DAYLIGHT
BEGIN:STANDARD
TZOFFSETFROM:+0200
TZOFFSETTO:+0100
TZNAME:CET
DTSTART:20251026T010000
END:STANDARD
BEGIN:DAYLIGHT
TZOFFSETFROM:+0100
TZOFFSETTO:+0200
TZNAME:CEST
DTSTART:20260329T010000
END:DAYLIGHT
BEGIN:STANDARD
TZOFFSETFROM:+0200
TZOFFSETTO:+0100
TZNAME:CET
DTSTART:20261025T010000
END:STANDARD
END:VTIMEZONE
BEGIN:VEVENT
DTSTART;VALUE=DATE:20251121
DTEND;VALUE=DATE:20251124
DTSTAMP:20260420T180933
CREATED:20250224T204920Z
LAST-MODIFIED:20250224T205339Z
UID:8413-1763683200-1763942399@www.der-energieheiler.de
SUMMARY:iLifeSOMM Days und WS-Day in LI iLifeSOMM Days 3d
DESCRIPTION:iLifeSOMM Days und WS-Day in LI iLifeSOMM Days 3d \niLifeSOMM Days in Ruggell\n\n\n\n\n\n\nStart: Fr.\, 21. November 2025\, 11:55\nEnde: So.\, 23. November 2025\, 15:30\n\nTeam Jochen Radermacher Erfolgreich Menschen helfen Gesund zu sein Glücklich sein zu können\n\nBuchung per Mail info@der-energieheiler.de \n   Messe Stand Köln 2022 \n\n\n\n\n  \nBeschreibung:\nDie iLifeSOMM Days stellen die erste Stufe der Grundausbildung im Rahmen der iLife Academy dar. Sie lernen hier von Profis die Grundlagen der Produkte iLifeSOMM und iLifeFIR\, wie man ein erfolgreiches Verkaufsgespräch führt und wie man Kunden unter Zuhilfenahme von Messmethoden (wie z.B. das iLifeHEMO) Lösungen aufzeigen kann. Letztlich ist auch der Marketingplan ein wesentlicher Bestandteil dieser Ausbildung\, um die hervorragenden Karrierechancen aufzuzeigen. \nInhalt: iLifeSOMM Days (FR+SA) inkl. Workshop Day (SO)\nBei Buchung von EZ oder DZ sind 2 x Nächtigung mit Frühstück inkludiert \nKostenbeitrag:\n\n\n\n\n\n\n\nEinzelzimmer (Frühbucher) \n\n\n\n\n\n\n\n Verfügbar \n 538.00 CHF – Standard \n\n\n\n\n\n\n\n Einzelzimmer \n\n\n\n\n\n\n\n Noch nicht im Verkauf \n 625.00 CHF – Standard \n\n\n\n\n\n\n\n Doppelzimmer (Frühbucher) \n\n\n\n\n\n\n\n Verfügbar \n 428.00 CHF – Standard \n\n\n\n\n\n\n\n Doppelzimmer \n\n\n\n\n\n\n\n Noch nicht im Verkauf \n 515.00 CHF – Standard \n\n\n\n\n\n\n\n ohne Nächtigung (Frühbucher) \n\n\n\n\n\n\n\n Verfügbar \n 259.00 CHF – Standard \n\n\n\n\n\n\n\n ohne Nächtigung \n\n\n\n\n\n\n\n Noch nicht im Verkauf \n 345.00 CHF – Standard \n\n\n\n\n\n\n\n Zusatznacht von DO-FR (Einzelzimmer) \n\n\n\n\n\n\n\n Verfügbar \n 140.00 CHF – Standard \n\n\n\n\n\n\n\n Zusatznacht von DO-FR (Doppelzimmer) \n\n\n\n\n\n\n\n\n\n\n\n\n\n\n\n\n\n\n\n\n\n\n\n\n\n\n\n\n\n\n\n\n\n\n\n\n\n\n\n\n\n\n\n\n\n\n\n\n\n\n\n\n\n\n\n\n\n\n\n\n\n\n\n\n\n\n\n\n\n\n\n\n\n\n\n\n\n\n\n\n\n\n\n\n\n\n\n\n\n\n\n\n\n\n\n\n\n\n\n\n\n\n\n\n\n\n\n\n\n\n\n\n\n\n\n\n\n\n\n\n\n\n\n\n\n\n\n\n\n\n\n\n\n\n\n\n\n\nEckdaten\nLocation:\niLifeSOMM Days in Ruggell\n\n\n\n\n\n\nStart: Fr.\, 21. November 2025\, 11:55\nEnde: So.\, 23. November 2025\, 15:30\n\n  \nKategorie\niLifeSOMM Days 3d \n  \nBuchung per Mail     info@der-energieheiler.de oder ruf mich an +49 1631829984 Jochen  \nVortragende\n Otmar Candinas\nEnergetiker und SOMM Spezialist \n Andreas Guenther\nCEO\niLife International Est \n Martin Günther\nMarketing\niLife International Est
URL:https://www.der-energieheiler.de/event/ilifesomm-days-und-ws-day-in-li-ilifesomm-days-3d/
LOCATION:Ruggel Kommod
CATEGORIES:Ruggel Lichtenstein
END:VEVENT
END:VCALENDAR