BEGIN:VCALENDAR
VERSION:2.0
PRODID:-//der-energieheiler.com - ECPv6.15.18//NONSGML v1.0//EN
CALSCALE:GREGORIAN
METHOD:PUBLISH
X-WR-CALNAME:der-energieheiler.com
X-ORIGINAL-URL:https://www.der-energieheiler.de
X-WR-CALDESC:Veranstaltungen für der-energieheiler.com
REFRESH-INTERVAL;VALUE=DURATION:PT1H
X-Robots-Tag:noindex
X-PUBLISHED-TTL:PT1H
BEGIN:VTIMEZONE
TZID:Europe/Berlin
BEGIN:DAYLIGHT
TZOFFSETFROM:+0100
TZOFFSETTO:+0200
TZNAME:CEST
DTSTART:20250330T010000
END:DAYLIGHT
BEGIN:STANDARD
TZOFFSETFROM:+0200
TZOFFSETTO:+0100
TZNAME:CET
DTSTART:20251026T010000
END:STANDARD
BEGIN:DAYLIGHT
TZOFFSETFROM:+0100
TZOFFSETTO:+0200
TZNAME:CEST
DTSTART:20260329T010000
END:DAYLIGHT
BEGIN:STANDARD
TZOFFSETFROM:+0200
TZOFFSETTO:+0100
TZNAME:CET
DTSTART:20261025T010000
END:STANDARD
BEGIN:DAYLIGHT
TZOFFSETFROM:+0100
TZOFFSETTO:+0200
TZNAME:CEST
DTSTART:20270328T010000
END:DAYLIGHT
BEGIN:STANDARD
TZOFFSETFROM:+0200
TZOFFSETTO:+0100
TZNAME:CET
DTSTART:20271031T010000
END:STANDARD
END:VTIMEZONE
BEGIN:VEVENT
DTSTART;VALUE=DATE:20260306
DTEND;VALUE=DATE:20260307
DTSTAMP:20260419T203948
CREATED:20250217T162527Z
LAST-MODIFIED:20260226T151754Z
UID:8398-1772755200-1772841599@www.der-energieheiler.de
SUMMARY:Einladung Vortrag in Luxemburg: Wie kann ich positiven Einfluss auf mein Energiesystem ausüben – um mein Immunsystem zu stärken?
DESCRIPTION:Einladung zum Vortrag:\nWie kann ich positiven Einfluss auf mein Energiesystem ausüben –\num mein Immunsystem zu stärken?\nWie kann ich das Wohlbefinden teigern und in Gesundheit zu leben ? \nWir laden Euch zu einem 90 Minuten Vortrag ein: \nIn einem gesunden Körper leben können ist machbar. Was brauche ich dafür?\nLass dich inspirieren\, wie leicht das sein kann.\nLass deine Energie messen\, um zu schauen: Warum ist etwas nicht so\, wie es sein sollte? \nKörperenergien sind messbar (sichtbar zu machen).\nWie kann ich mit Leichtigkeit Gesundheit erleben?\nWie kann ich mich davon überzeugen: Ist das gut für mich? \nReferent: Jochen Radermacher aus Hürth bei Köln\, Gesundheitspraxis seit 23 Jahren \n  \nDer beste Arzt: Mein Immunsystem … weil nur Gesundheit wahrer Reichtum ist \nAm 06.03.2026 um 19:00 Uhr in Arsdorf – Schegdenhaff (1\, an der Hiehlt L-8809)\nAnmeldung bei Sylvie & Fons JACQUES\nTel.: +352 23 64 90 81 / +352 621 50 72 71 / email: jasylv@internet.lu\n  \nWeitere Termine \nAkupunktur ohne Nadeln mit den Magnet-Stiften \nin Arsdorf – Schegdenhaff (1\, an der Hiehlt L-8809) \nTermine:                  So  08. + Mo 09. März 2026 \nSeminarzeiten:         1. Tag: 10:00 – 18:00 Uhr    2. Tag: 10:00 – 16:00 Uhr \nSeminargebühr:              € 360\,–incl. 19% MwSt. \n  \nKlangmeditation am 07.03.26  von  18:00 Uhr bis 19:00 Uhr; Eintritt 30\,-€ \nAm 07. und 10.03.2026 von 9:00 Uhr bis 16:30 Uhr können Behandlungs-Termine mir Jochen Rademacher gebucht werden.
URL:https://www.der-energieheiler.de/event/8398/
LOCATION:Alsdorf- Schegdenhaff 1\,-an der Hiehlt L-8809\, Arsdorf\, L-8809\, Luxembourg
CATEGORIES:an der Hiehlt L-8809)
END:VEVENT
BEGIN:VEVENT
DTSTART;VALUE=DATE:20260306
DTEND;VALUE=DATE:20260310
DTSTAMP:20260419T203948
CREATED:20250529T103357Z
LAST-MODIFIED:20250922T222245Z
UID:8472-1772755200-1773100799@www.der-energieheiler.de
SUMMARY:Behandlungstage\, Klangmeditation\, Einladung Vortrag in Arsdorf – Schegdenhaff (1\, an der Hiehlt L-8809)
DESCRIPTION:Behandlungstag\nin Arsdorf – Schegdenhaff (1\, an der Hiehlt L-8809)\n \nHier haben Sie/Du die Möglichkeiten\, meine Angebote Behandlung/ Anwendungen Körperenergiearbeit Akupunktur Klangmassage und weitere Anwendungen wie auf meiner Webseite zu sehen sind.  iLifesomm Liege zu nutzen. Sowie die Körperenergien messen zu lassen. Hierzu bitte frühzeitig einen Termin vereinbaren. \nAlle Leistungen des Seminars\, Behandlung/ Anwendungen ersetzen keine ärztlichen oder therapeutischen Behandlungen. Keine Diagnosen. Über diese Klarstellung bin oder werde ich ausreichend vor dem Seminar\, Behandlung\, Meditation aufgeklärt. \nBehandlungen 07. und 10. März 2026 von 9Uhr bis 16:30 Uhr Ende\nKlangmeditation am Samstag 07.März.2026 um 18 Uhr bis 19 Uhr\nnur nach Voranmeldungen max. 15 TN möglich\nFolgendes ist geboten: \n\n\nIndividuelle Behandlung mit Jochen Radermacher\n\nEnergieausgleich € 90\,00 pro Stunde\nTermine können  gebucht werden\nWelche Behandlung schau auf meine Webseite www.der-energieheiler.de\n\nKlangmeditation Entspannung mit XXL Klangschalen und Gongs\nam 07.März 2025 um 18 Uhr bis 19 Uhr\nBei ausreichender Anmeldung\n\niLifeSomm Energieliege \n\nGesundheitsmessung & ILifeSomm Energieliege Nach der Messung könnt ihr bei Sylvie & Fons JACQUES noch weitere Termine auf der Liege wahrnehmen und euch von der Wirkung überzeugen bzw. begeistern lassen.  😊\nEinladung Vortrag\nWie kann ich positiven Einfluss auf mein Energiesystem ausüben –\num mein Immunsystem zu stärken\,Der beste Arzt: Mein Immunsystem\n… weil nur Gesundheit wahrer Reichtum ist \nAm 06.03.2026 um 19 Uhr\nin Arsdorf – Schegdenhaff (1\, an der Hiehlt L-8809)\nAnmeldung bei\nSylvie & Fons JACQUES\nTel.: +352 23 64 90 81 / +352 621 50 72 71 /         email: jasylv@internet.lu\n\n\n  \nJuli 2023    Magnet Akupunktur ohne Nadeln \n  \n  \nAlle Leistungen der Anwendungen oder Klangmeditation ersetzen keine ärztlichen oder therapeutischen Behandlungen. Keine Diagnosen; Über diese Klarstellung bin oder werde ich ausreichend vor den Anwendungen aufgeklärt. \nAnmeldung unter: \nGesundheitspraxis Klangraum\, Schule für Geistig-Körper-Energie Arbeit\nJochen Radermacher                             Tel       : 0163-1829984\nGildenweg 6                                              E Mail: info@der-energieheiler.de\n50354 Hürth                                              Web   : www.Der-Energieheiler.de \noder: \nAnmeldung bei\nSylvie & Fons JACQUES\nTel.: +352 23 64 90 81 / +352 621 50 72 71 /         email: jasylv@internet.lu
URL:https://www.der-energieheiler.de/event/8472/
LOCATION:Alsdorf- Schegdenhaff 1\,-an der Hiehlt L-8809\, Arsdorf\, L-8809\, Luxembourg
CATEGORIES:an der Hiehlt L-8809)
END:VEVENT
END:VCALENDAR