BEGIN:VCALENDAR
VERSION:2.0
PRODID:-//der-energieheiler.com - ECPv6.15.18//NONSGML v1.0//EN
CALSCALE:GREGORIAN
METHOD:PUBLISH
X-ORIGINAL-URL:https://www.der-energieheiler.de
X-WR-CALDESC:Veranstaltungen für der-energieheiler.com
REFRESH-INTERVAL;VALUE=DURATION:PT1H
X-Robots-Tag:noindex
X-PUBLISHED-TTL:PT1H
BEGIN:VTIMEZONE
TZID:Europe/Berlin
BEGIN:DAYLIGHT
TZOFFSETFROM:+0100
TZOFFSETTO:+0200
TZNAME:CEST
DTSTART:20250330T010000
END:DAYLIGHT
BEGIN:STANDARD
TZOFFSETFROM:+0200
TZOFFSETTO:+0100
TZNAME:CET
DTSTART:20251026T010000
END:STANDARD
BEGIN:DAYLIGHT
TZOFFSETFROM:+0100
TZOFFSETTO:+0200
TZNAME:CEST
DTSTART:20260329T010000
END:DAYLIGHT
BEGIN:STANDARD
TZOFFSETFROM:+0200
TZOFFSETTO:+0100
TZNAME:CET
DTSTART:20261025T010000
END:STANDARD
BEGIN:DAYLIGHT
TZOFFSETFROM:+0100
TZOFFSETTO:+0200
TZNAME:CEST
DTSTART:20270328T010000
END:DAYLIGHT
BEGIN:STANDARD
TZOFFSETFROM:+0200
TZOFFSETTO:+0100
TZNAME:CET
DTSTART:20271031T010000
END:STANDARD
END:VTIMEZONE
BEGIN:VEVENT
DTSTART;VALUE=DATE:20260504
DTEND;VALUE=DATE:20260505
DTSTAMP:20260419T202919
CREATED:20231228T122912Z
LAST-MODIFIED:20260223T192039Z
UID:8061-1777852800-1777939199@www.der-energieheiler.de
SUMMARY:Behandlungstag in Öhringen OT Süd Deutschland
DESCRIPTION:Behandlungstag in Öhringen OT Süd Deutschland\nHier haben Sie/Du die Möglichkeiten\, meine Angebote Behandlung/ Anwendungen und iLifesomm Liege zu nutzen. Sowie die Körperenergien messen zu lassen. Hierzu bitte frühzeitig einen Termin vereinbaren. \nAlle Leistungen des Seminars\, Behandlung/ Anwendungen ersetzen keine ärztlichen oder therapeutischen Behandlungen. Keine Diagnosen. Über diese Klarstellung bin oder werde ich ausreichend vor dem Seminar\, Behandlung\, Meditation aufgeklärt. \n04. Mai 2026 von 13Uhr bis 20 Uhr Ende\n  \nFolgendes ist geboten: \n\n\nIndividuelle Behandlung bei Jochen Radermacher\n\nEnergieausgleich € 80\,00 pro Stunde\nTermine können  gebucht werden\nWelche Behandlung schau auf meine Webseite www.der-energieheiler.de\n\niLifeSomm Energieliege \n\nGesundheitsmessung & ILifeSomm Energieliege Nach der Messung könnt ihr bei mir  noch weitere Termine auf der Liege wahrnehmen und euch von der Wirkung überzeugen bzw. begeistern lassen.\n\n\nKlangmeditation Dieses mal nicht geplant\nBei ausreichender Anmeldung\n\n  \nJuli 2023    Magnet Akupunktur ohne Nadeln \n  \nAlle Leistungen der Anwendungen oder Klangmeditation ersetzen keine ärztlichen oder therapeutischen Behandlungen. Keine Diagnosen; Über diese Klarstellung bin oder werde ich ausreichend vor den Anwendungen aufgeklärt. \nAnmeldung unter: \nGesundheitspraxis Klangraum\, Schule für Geistig-Körper-Energie Arbeit\nJochen Radermacher                             Tel       : 0163-1829984\nGildenweg 6                                              E Mail: info@der-energieheiler.de\n50354 Hürth                                              Web   : www.Der-Energieheiler.de
URL:https://www.der-energieheiler.de/event/behandlungstage-in-oehringen-ot-sued-deutschland-2/
LOCATION:74613 Öhringen\, Öhringen Büttelbronn\, 74613\, Deutschland
CATEGORIES:Öhringen
END:VEVENT
END:VCALENDAR