BEGIN:VCALENDAR
VERSION:2.0
PRODID:-//der-energieheiler.com - ECPv6.15.18//NONSGML v1.0//EN
CALSCALE:GREGORIAN
METHOD:PUBLISH
X-ORIGINAL-URL:https://www.der-energieheiler.de
X-WR-CALDESC:Veranstaltungen für der-energieheiler.com
REFRESH-INTERVAL;VALUE=DURATION:PT1H
X-Robots-Tag:noindex
X-PUBLISHED-TTL:PT1H
BEGIN:VTIMEZONE
TZID:Europe/Berlin
BEGIN:DAYLIGHT
TZOFFSETFROM:+0100
TZOFFSETTO:+0200
TZNAME:CEST
DTSTART:20250330T010000
END:DAYLIGHT
BEGIN:STANDARD
TZOFFSETFROM:+0200
TZOFFSETTO:+0100
TZNAME:CET
DTSTART:20251026T010000
END:STANDARD
BEGIN:DAYLIGHT
TZOFFSETFROM:+0100
TZOFFSETTO:+0200
TZNAME:CEST
DTSTART:20260329T010000
END:DAYLIGHT
BEGIN:STANDARD
TZOFFSETFROM:+0200
TZOFFSETTO:+0100
TZNAME:CET
DTSTART:20261025T010000
END:STANDARD
BEGIN:DAYLIGHT
TZOFFSETFROM:+0100
TZOFFSETTO:+0200
TZNAME:CEST
DTSTART:20270328T010000
END:DAYLIGHT
BEGIN:STANDARD
TZOFFSETFROM:+0200
TZOFFSETTO:+0100
TZNAME:CET
DTSTART:20271031T010000
END:STANDARD
END:VTIMEZONE
BEGIN:VEVENT
DTSTART;VALUE=DATE:20260511
DTEND;VALUE=DATE:20260513
DTSTAMP:20260419T203711
CREATED:20230121T133112Z
LAST-MODIFIED:20260416T193735Z
UID:7793-1778457600-1778630399@www.der-energieheiler.de
SUMMARY:Herzliche Einladung zu den Gesundheitstagen in 70736 Oeffingen
DESCRIPTION:Herzliche Einladung zu den Gesundheitstagen am 10. – 12. Mai 2026\nAlle Aktionen finden in 70736 Fellbach OT Oeffingen statt.\nFolgendes ist geboten: \n\n\nIndividuelle Behandlung bei Jochen Radermacher\n\nEnergieausgleich € 80\,00 pro Stunde\nTermine können gebucht werden\n\nKlangmeditation\n\nKlangmeditation – Montag 11.05.26 | 20.00–21:15 Uhr\nErlebe Tiefenentspannung und Entschleunigung durch die Kraft der Klänge.\nJochen nimmt uns mit auf eine wohltuende Klangreise.\nEnergieausgleich: 25 € pro Person\n\niLifeSomm Energieliege \n\nGesundheitsmessung & ILifeSomm EnergieliegeNach der Messung könnt ihr bei mir Lucia Rothwein noch weitere Termine auf der Liege wahrnehmen und euch von der Wirkung überzeugen bzw. begeistern lassen. 😊\n\n  \nAlle Leistungen des Seminars\, Behandlung/ Anwendungen ersetzen keine ärztlichen oder therapeutischen Behandlungen. Keine Diagnosen. Über diese Klarstellung bin oder werde ich ausreichend vor dem Seminar\, Behandlung\, Meditation aufgeklärt. \nWir freuen uns auf dich! \nSonnige Energiereiche Grüße  \nLucia und Jochen \n 
URL:https://www.der-energieheiler.de/event/7793/
LOCATION:70736 Fellbach OT Oeffingen\, Fellbach OT Oeffingen\, 70736\, Deutschland
CATEGORIES:70736 Fellbach
END:VEVENT
END:VCALENDAR