BEGIN:VCALENDAR
VERSION:2.0
PRODID:-//der-energieheiler.com - ECPv6.15.18//NONSGML v1.0//EN
CALSCALE:GREGORIAN
METHOD:PUBLISH
X-WR-CALNAME:der-energieheiler.com
X-ORIGINAL-URL:https://www.der-energieheiler.de
X-WR-CALDESC:Veranstaltungen für der-energieheiler.com
REFRESH-INTERVAL;VALUE=DURATION:PT1H
X-Robots-Tag:noindex
X-PUBLISHED-TTL:PT1H
BEGIN:VTIMEZONE
TZID:Europe/Berlin
BEGIN:DAYLIGHT
TZOFFSETFROM:+0100
TZOFFSETTO:+0200
TZNAME:CEST
DTSTART:20250330T010000
END:DAYLIGHT
BEGIN:STANDARD
TZOFFSETFROM:+0200
TZOFFSETTO:+0100
TZNAME:CET
DTSTART:20251026T010000
END:STANDARD
BEGIN:DAYLIGHT
TZOFFSETFROM:+0100
TZOFFSETTO:+0200
TZNAME:CEST
DTSTART:20260329T010000
END:DAYLIGHT
BEGIN:STANDARD
TZOFFSETFROM:+0200
TZOFFSETTO:+0100
TZNAME:CET
DTSTART:20261025T010000
END:STANDARD
BEGIN:DAYLIGHT
TZOFFSETFROM:+0100
TZOFFSETTO:+0200
TZNAME:CEST
DTSTART:20270328T010000
END:DAYLIGHT
BEGIN:STANDARD
TZOFFSETFROM:+0200
TZOFFSETTO:+0100
TZNAME:CET
DTSTART:20271031T010000
END:STANDARD
END:VTIMEZONE
BEGIN:VEVENT
DTSTART;TZID=Europe/Berlin:20260703T173000
DTEND;TZID=Europe/Berlin:20260703T190000
DTSTAMP:20260419T221142
CREATED:20230101T202935Z
LAST-MODIFIED:20260216T151956Z
UID:7776-1783099800-1783105200@www.der-energieheiler.de
SUMMARY:Tiefenentspannung durch Klangmeditation Outdoor oder Pfarrhaus Lichtringhausen\, Plettenbergerstraße 119\, 57439 Attendorn
DESCRIPTION:Tiefenentspannung durch Klangmeditation \nBei gutem Wetter Draußen sonst in der Halle \nOutdoor Pfarrhaus  Lichtringhausen\, Plettenbergerstraße 119\, 57439 Attendorn\nExklusiv \n \n \nSanfte und harmonische Schwingungen fließen durch den Körper.\nRuhig und gleichmäßig erklingen die Klangschalen.\nTiefe innere Ruhe kehrt ein.\nDie Schwingung können Verspannungen Blockaden lösen.\nEin sorgenfreier erholsamer Raum kann entstehen.\nSein kann so schön sein! \n Diese Klangmeditation beginnt mit einer 15-minütige Einführung. Was bewirken der Klang und die Schwingung in meinem Körper? Danach genießen Sie 60 Minuten meditative Klänge mit einer geführten Geschichte. \nBringen Sie bitte eine Unterlage (z.B. Yogamatte)\, Kissen und eine Decke mit um sehr gut zu liegen. Gutes Liegen gute Unterlage ist sehr Wichtig um eine Stunde sehr gut zu liegen und zu Entspannen. Sie können auch gerne einen Liegestuhl für sich mitbringen. \nTiefenentspannung durch Klangmeditation\n\nDatum: Freitag 03.07.2026\, 17:30. Uhr (Einlass 17:00 Uhr) Outdoor Pfarrhaus Lichtringhausen\, Plettenbergerstraße 119\, 57439 Attendorn\n \nGegenwert: 25 EUR  Anmeldung  vorher erforderlich minderst Teilnehmer Anzahl 10\n \nAnmeldung bei:  \n   \nDie Gesundheitspraxis-Klangraum \nSchule für Geistige-Körper-Energie-Arbeit\nJochen Radermacher\, Gildenweg 6\, 50354 Hürth Gleuel                         (Tel: 0163-1829984)\nE-Mail: info@der-energieheiler.de                                                         Internet: www.Der-Energieheiler.de \noder \nConny Lübke \nAlte Dorfstrasse 15 \n57439 Attendorn \nTel.: 02722 50823 \nMobil: 015906176832   +49 178 384 9310 \nEmail: al1-luebke@web.de
URL:https://www.der-energieheiler.de/event/7776/
LOCATION:Kirche Lichtringhausen Plettenbergerstr. 119\, 57439 Attendorn\, Plettenbergerstr.119\, Kirche Attendorn Lichtringhausen\, 57439\, Germany
CATEGORIES:57439 Attendorn
END:VEVENT
END:VCALENDAR