BEGIN:VCALENDAR
VERSION:2.0
PRODID:-//der-energieheiler.com - ECPv6.15.18//NONSGML v1.0//EN
CALSCALE:GREGORIAN
METHOD:PUBLISH
X-WR-CALNAME:der-energieheiler.com
X-ORIGINAL-URL:https://www.der-energieheiler.de
X-WR-CALDESC:Veranstaltungen für der-energieheiler.com
REFRESH-INTERVAL;VALUE=DURATION:PT1H
X-Robots-Tag:noindex
X-PUBLISHED-TTL:PT1H
BEGIN:VTIMEZONE
TZID:Europe/Berlin
BEGIN:DAYLIGHT
TZOFFSETFROM:+0100
TZOFFSETTO:+0200
TZNAME:CEST
DTSTART:20250330T010000
END:DAYLIGHT
BEGIN:STANDARD
TZOFFSETFROM:+0200
TZOFFSETTO:+0100
TZNAME:CET
DTSTART:20251026T010000
END:STANDARD
BEGIN:DAYLIGHT
TZOFFSETFROM:+0100
TZOFFSETTO:+0200
TZNAME:CEST
DTSTART:20260329T010000
END:DAYLIGHT
BEGIN:STANDARD
TZOFFSETFROM:+0200
TZOFFSETTO:+0100
TZNAME:CET
DTSTART:20261025T010000
END:STANDARD
BEGIN:DAYLIGHT
TZOFFSETFROM:+0100
TZOFFSETTO:+0200
TZNAME:CEST
DTSTART:20270328T010000
END:DAYLIGHT
BEGIN:STANDARD
TZOFFSETFROM:+0200
TZOFFSETTO:+0100
TZNAME:CET
DTSTART:20271031T010000
END:STANDARD
END:VTIMEZONE
BEGIN:VEVENT
DTSTART;TZID=Europe/Berlin:20261114T100000
DTEND;TZID=Europe/Berlin:20261115T190000
DTSTAMP:20260420T071119
CREATED:20240201T225335Z
LAST-MODIFIED:20260403T142713Z
UID:8116-1794650400-1794769200@www.der-energieheiler.de
SUMMARY:Gesundheitsmesse Hürth Gleuel 14/15. November 2026
DESCRIPTION:  \nhttps://www.gesundheitsmesse-rhein-erft-kreis.de\n \n  \nSpenden Übergabe Messe 2024 \n  \n  \nJochen Radermacher Gesundheitspraxis Klangraum Hürth Gleueld \nMeine Vorträge sind am Samstag auf der Bühne zu finden zu folgenden Zeiten  \n  \nDer Termin für 2026 ist in den November gelegt worden am 14 und 15. November 2026 in Hürth Gleuel\n  \n 
URL:https://www.der-energieheiler.de/event/8116/
LOCATION:Festhalle Hürth Gleuel\, Friedenstr. 25d\, Hürth Gleuel\, 50354\, Germany
CATEGORIES:50354 Hürth Gleuel
END:VEVENT
END:VCALENDAR