BEGIN:VCALENDAR
VERSION:2.0
PRODID:-//der-energieheiler.com - ECPv6.15.18//NONSGML v1.0//EN
CALSCALE:GREGORIAN
METHOD:PUBLISH
X-ORIGINAL-URL:https://www.der-energieheiler.de
X-WR-CALDESC:Veranstaltungen für der-energieheiler.com
REFRESH-INTERVAL;VALUE=DURATION:PT1H
X-Robots-Tag:noindex
X-PUBLISHED-TTL:PT1H
BEGIN:VTIMEZONE
TZID:Europe/Berlin
BEGIN:DAYLIGHT
TZOFFSETFROM:+0100
TZOFFSETTO:+0200
TZNAME:CEST
DTSTART:20240331T010000
END:DAYLIGHT
BEGIN:STANDARD
TZOFFSETFROM:+0200
TZOFFSETTO:+0100
TZNAME:CET
DTSTART:20241027T010000
END:STANDARD
BEGIN:DAYLIGHT
TZOFFSETFROM:+0100
TZOFFSETTO:+0200
TZNAME:CEST
DTSTART:20250330T010000
END:DAYLIGHT
BEGIN:STANDARD
TZOFFSETFROM:+0200
TZOFFSETTO:+0100
TZNAME:CET
DTSTART:20251026T010000
END:STANDARD
BEGIN:DAYLIGHT
TZOFFSETFROM:+0100
TZOFFSETTO:+0200
TZNAME:CEST
DTSTART:20260329T010000
END:DAYLIGHT
BEGIN:STANDARD
TZOFFSETFROM:+0200
TZOFFSETTO:+0100
TZNAME:CET
DTSTART:20261025T010000
END:STANDARD
END:VTIMEZONE
BEGIN:VEVENT
DTSTART;TZID=Europe/Berlin:20250908T080000
DTEND;TZID=Europe/Berlin:20250908T170000
DTSTAMP:20260420T064809
CREATED:20250714T081436Z
LAST-MODIFIED:20250714T212651Z
UID:8501-1757318400-1757350800@www.der-energieheiler.de
SUMMARY:Tiefenentspannung durch Klangmeditation in Hürth Gleuel mit Jochen Radermacher Exklusiv für maximal 8 Personen Entschleunigung
DESCRIPTION:Tiefenentspannung durch Klangmeditation in Hürth Gleuel mit Jochen Radermacher\n\n\nExklusiv für maximal 8 Personen Entschleunigung \n \n \nSanfte und harmonische Schwingungen fließen durch den Körper.\nRuhig und gleichmäßig erklingen die Klangschalen.\nTiefe innere Ruhe kehrt ein.\nDie Schwingung können Verspannungen Blockaden lösen.\nEin sorgenfreier erholsamer Raum kann entstehen.\nSein kann so schön sein! \n Diese Klangmeditation beginnt mit einer 15-minütige Einführung. Was bewirken der Klang und die Schwingung in meinem Körper? Danach genießen Sie 60 Minuten meditative Klänge mit einer geführten Geschichte. \nBringen Sie bitte eine Unterlage (z.B. Yogamatte)\, Kissen und eine Decke mit um sehr gut zu liegen. Gutes Liegen gute Unterlage ist sehr Wichtig um eine Stunde sehr gut zu liegen und zu Entspannen. Sie können auch gerne einen Liegestuhl für sich mitbringen. \nVeranstaltungsort: 50354 Hürth Gleuel Gildenweg 6\n \nTiefenentspannung durch Klangmeditation\nDatum: Montag 08.09.2025\, 19.30 Uhr (Einlass 19:10 Uhr) bis 20:30Uhr \nGegenwert: 25 EUR Maximal 8 Teilnehmer möglich\n \nAnmeldung bei:     \nDie Gesundheitspraxis-Klangraum \nSchule für Geistige-Körper-Energie-Arbeit\nJochen Radermacher\, Gildenweg 6\, 50354 Hürth Gleuel                                                              (Tel: 0163-1829984)\nE-Mail: info@der-energieheiler.de                                                                                                        Internet: www.Der-Energieheiler.de
URL:https://www.der-energieheiler.de/event/tiefenentspannung-durch-klangmeditation-in-huerth-gleuel-mit-jochen-radermacher-2/
LOCATION:50354 Hürth Gildenweg 6\, Deutschland
CATEGORIES:50354 Hürth Gleuel
END:VEVENT
BEGIN:VEVENT
DTSTART;VALUE=DATE:20250912
DTEND;VALUE=DATE:20250915
DTSTAMP:20260420T064809
CREATED:20240426T205144Z
LAST-MODIFIED:20250224T202714Z
UID:8174-1757635200-1757894399@www.der-energieheiler.de
SUMMARY:iLifeSOMM Days und WS-Day in LI iLifeSOMM Days 3d
DESCRIPTION:iLifeSOMM Days und WS-Day in LI iLifeSOMM Days 3d \nTeam Jochen Radermacher Erfolgreich Menschen helfen Gesund zu sein Glücklich sein zu können\n\nBuchung per Mail info@der-energieheiler.de \n   Messe Stand Köln 2022 \n\n\n\n\n  \nBeschreibung:\nDie iLifeSOMM Days stellen die erste Stufe der Grundausbildung im Rahmen der iLife Academy dar. Sie lernen hier von Profis die Grundlagen der Produkte iLifeSOMM und iLifeFIR\, wie man ein erfolgreiches Verkaufsgespräch führt und wie man Kunden unter Zuhilfenahme von Messmethoden (wie z.B. das iLifeHEMO) Lösungen aufzeigen kann. Letztlich ist auch der Marketingplan ein wesentlicher Bestandteil dieser Ausbildung\, um die hervorragenden Karrierechancen aufzuzeigen. \nInhalt: iLifeSOMM Days (FR+SA) inkl. Workshop Day (SO)\nBei Buchung von EZ oder DZ sind 2 x Nächtigung mit Frühstück inkludiert \nKostenbeitrag:\n\n\n\nEinzelzimmer (Frühbucher) \n\n\n\n\n\n\n\n Verfügbar \n 432.00 CHF – Standard \n\n\n\n\n\n\n\n Einzelzimmer \n\n\n\n\n\n\n\n Noch nicht im Verkauf \n 530.00 CHF – Standard \n\n\n\n\n\n\n\n Doppelzimmer (Frühbucher) \n\n\n\n\n\n\n\n Verfügbar \n 362.00 CHF – Standard \n\n\n\n\n\n\n\n Doppelzimmer \n\n\n\n\n\n\n\n Noch nicht im Verkauf \n 460.00 CHF – Standard \n\n\n\n\n\n\n\n ohne Nächtigung (Frühbucher) \n\n\n\n\n\n\n\n Verfügbar \n 233.00 CHF – Standard \n\n\n\n\n\n\n\n ohne Nächtigung \n\n\n\n\n\n\n\n Noch nicht im Verkauf \n 310.00 CHF – Standard \n\n\n\n\n\n\n\n Zusatznacht von DO-FR (Einzelzimmer) \n\n\n\n\n\n\n\n Verfügbar \n 110.00 CHF – Standard \n\n\n\n\n\n\n\n Zusatznacht von DO-FR (Doppelzimmer) \n\n\n\n\n\n\n\n Verfügbar \n 75.00 CHF – Standard \n\n\n\n\n\n\nEckdaten\nBeginn\n12.09.2024 – 11:55 Uhr \nEnde\n14.09.2024 – 15:30 Uhr \nKategorie\niLifeSOMM Days 3d \nLocation:\nb_smart Hotel Widnau\nParkstr. 1\n9443 Widnau\nSchweiz \nBuchung per Mail     info@der-energieheiler.de oder ruf mich an +49 1631829984 Jochen  \nVortragende\n Otmar Candinas\nEnergetiker und SOMM Spezialist \n Andreas Guenther\nCEO\niLife International Est \n Martin Günther\nMarketing\niLife International Est
URL:https://www.der-energieheiler.de/event/8174/
LOCATION:b-smart Hotel Widnau Parkstr.1\, 9443 Widnau  Schweiz
CATEGORIES:CH 9443 Widnau
END:VEVENT
END:VCALENDAR