BEGIN:VCALENDAR
VERSION:2.0
PRODID:-//der-energieheiler.com - ECPv6.15.18//NONSGML v1.0//EN
CALSCALE:GREGORIAN
METHOD:PUBLISH
X-ORIGINAL-URL:https://www.der-energieheiler.de
X-WR-CALDESC:Veranstaltungen für der-energieheiler.com
REFRESH-INTERVAL;VALUE=DURATION:PT1H
X-Robots-Tag:noindex
X-PUBLISHED-TTL:PT1H
BEGIN:VTIMEZONE
TZID:Europe/Berlin
BEGIN:DAYLIGHT
TZOFFSETFROM:+0100
TZOFFSETTO:+0200
TZNAME:CEST
DTSTART:20240331T010000
END:DAYLIGHT
BEGIN:STANDARD
TZOFFSETFROM:+0200
TZOFFSETTO:+0100
TZNAME:CET
DTSTART:20241027T010000
END:STANDARD
BEGIN:DAYLIGHT
TZOFFSETFROM:+0100
TZOFFSETTO:+0200
TZNAME:CEST
DTSTART:20250330T010000
END:DAYLIGHT
BEGIN:STANDARD
TZOFFSETFROM:+0200
TZOFFSETTO:+0100
TZNAME:CET
DTSTART:20251026T010000
END:STANDARD
BEGIN:DAYLIGHT
TZOFFSETFROM:+0100
TZOFFSETTO:+0200
TZNAME:CEST
DTSTART:20260329T010000
END:DAYLIGHT
BEGIN:STANDARD
TZOFFSETFROM:+0200
TZOFFSETTO:+0100
TZNAME:CET
DTSTART:20261025T010000
END:STANDARD
END:VTIMEZONE
BEGIN:VEVENT
DTSTART;TZID=Europe/Berlin:20251008T193000
DTEND;TZID=Europe/Berlin:20251008T203000
DTSTAMP:20260420T084113
CREATED:20250714T080523Z
LAST-MODIFIED:20251001T204722Z
UID:8498-1759951800-1759955400@www.der-energieheiler.de
SUMMARY:Tiefenentspannung durch Klangmeditation in Hürth Gleuel mit Jochen Radermacher Exklusiv für maximal 8 Personen Entschleunigung
DESCRIPTION:Tiefenentspannung durch Klangmeditation in Hürth Gleuel mit Jochen Radermacher\n\n\nExklusiv für maximal 8 Personen Entschleunigung \nNur noch wenige Plätze frei\n \n \n\n \nSanfte und harmonische Schwingungen fließen durch den Körper.\nRuhig und gleichmäßig erklingen die Klangschalen.\nTiefe innere Ruhe kehrt ein.\nDie Schwingung können Verspannungen Blockaden lösen.\nEin sorgenfreier erholsamer Raum kann entstehen.\nSein kann so schön sein! \n Diese Klangmeditation beginnt mit einer 15-minütige Einführung. Was bewirken der Klang und die Schwingung in meinem Körper? Danach genießen Sie 60 Minuten meditative Klänge mit einer geführten Geschichte. \nBringen Sie bitte eine Unterlage (z.B. Yogamatte)\, Kissen und eine Decke mit um sehr gut zu liegen. Gutes Liegen gute Unterlage ist sehr Wichtig um eine Stunde sehr gut zu liegen und zu Entspannen. Sie können auch gerne einen Liegestuhl für sich mitbringen. \nVeranstaltungsort: 50354 Hürth Gleuel Gildenweg 6\n \nTiefenentspannung durch Klangmeditation\nDatum: Mittwoch 08.10.2025\, 19.30 Uhr (Einlass 19:10 Uhr) bis 20:30Uhr \nDatum: Dienstag 04.11.2025\, 19.30 Uhr (Einlass 19:10 Uhr) bis 20:30Uhr \nDatum: Freitag 14.11.2025\, 18:30 Uhr (Einlass 18:00 Uhr) bis 19:45 Uhr Gongkonzert in der Kirche\nAttendorn Lichtringhausen Kirche Außergewöhnliche Besondere Veranstaltung Einzigartig\nDatum: Montag 08.12.2025\, 19.30 Uhr (Einlass 19:10 Uhr) bis 20:30Uhr \nGegenwert: 25 EUR Maximal 8 Teilnehmer möglich\n \nAnmeldung bei:     \nDie Gesundheitspraxis-Klangraum \nSchule für Geistige-Körper-Energie-Arbeit\nJochen Radermacher\, Gildenweg 6\, 50354 Hürth Gleuel                                                              (Tel: 0163-1829984)\nE-Mail: info@der-energieheiler.de                                                                                                        Internet: www.Der-Energieheiler.de
URL:https://www.der-energieheiler.de/event/8498/
LOCATION:50354 Hürth Gildenweg 6\, Deutschland
CATEGORIES:50354 Hürth Gleuel
END:VEVENT
BEGIN:VEVENT
DTSTART;VALUE=DATE:20251019
DTEND;VALUE=DATE:20251021
DTSTAMP:20260420T084113
CREATED:20250401T090052Z
LAST-MODIFIED:20250922T215258Z
UID:8435-1760832000-1761004799@www.der-energieheiler.de
SUMMARY:Simmerather Herbstjahrsmarkt 19 und 20 Oktober 2025 Info Stand Gesundheitpraxis Klangraum
DESCRIPTION:Simmerather Herbstjahrsmarkt 19 und 20 Oktober 2025\n \nHier findet man Mich Jochen Radermacher mit einem Info Stand Geistige Gesundheit\, Klangschalen\, Gongs\, iLifesomm Liege und Gesundheitsmessung\, Seminar Angebote\, Akupunktur & Klang Demo Behandlung. Hier gibt es Markt Sonderangebote zu Buchen. \n     \n  \n \nAkupunktur\n      \nKörperarbeit\n  \n  \n \nBeinlängendifferenzausgleich\nWeitere Bilder folgen in kürze. \nWir freuen uns auf Ihren Besuch an unserem Stand oder in meiner Praxis in Hürth Gleuel
URL:https://www.der-energieheiler.de/event/simmerather-fruehjahrsmarkt-15-und-16-juni-2025/
LOCATION:52152 Simmerath\, Simmerath\, 52152\, Germany
CATEGORIES:52152 Simmerath
END:VEVENT
BEGIN:VEVENT
DTSTART;TZID=Europe/Berlin:20251026T190000
DTEND;TZID=Europe/Berlin:20251026T200000
DTSTAMP:20260420T084113
CREATED:20220614T170250Z
LAST-MODIFIED:20250728T071841Z
UID:7647-1761505200-1761508800@www.der-energieheiler.de
SUMMARY:Tiefenentspannung durch Klangmeditation in 70736 Fellbach 2025
DESCRIPTION:Tiefenentspannung durch Klangmeditation\n \nSanfte und harmonische Schwingungen fließen durch den Körper.\nRuhig und gleichmäßig erklingen die Klangschalen.\nTiefe innere Ruhe kehrt ein.\nDie Schwingung können Verspannungen Blockaden lösen.\nEin sorgenfreier erholsamer Raum kann entstehen.\nSein kann so schön sein! \n Diese Klangmeditation beginnt mit einer 15-minütige Einführung. Was bewirken der Klang und die Schwingung in meinem Körper? Danach genießen Sie 60 Minuten meditative Klänge mit einer geführten Geschichte. \nBringen Sie bitte eine Unterlage (z.B. Yogamatte)\, Kissen und eine Decke mit um sehr gut zu liegen. Gutes Liegen gute Unterlage ist sehr Wichtig um eine Stunde sehr gut zu liegen und zu Entspannen. Sie können auch gerne einen Liegestuhl für sich mitbringen. \nVeranstaltungsort: 70736 Fellbach\n \nTiefenentspannung durch Klangmeditation\n  \n70736 Fellbach bei Stutgart genaue Adresse nach Anmeldung \n\nDatum: Sonntag 26.10.2025 19:00 Uhr  (Einlass 18:45 Uhr) \nGegenwert: 25 EUR \nAnmeldung bei:     \nDie Gesundheitspraxis-Klangraum \nSchule für Geistige-Körper-Energie-Arbeit\nJochen Radermacher\, Gildenweg 6\, 50354 Hürth Gleuel                         (Tel: 0163-1829984)\nE-Mail: info@der-energieheiler.de                                                         Internet: www.Der-Energieheiler.de
URL:https://www.der-energieheiler.de/event/tiefenentspannung-durch-klangmeditation-in/
LOCATION:70736 Fellbach\, Fellbach\, 70736\, Deutschland
CATEGORIES:70736 Fellbach
END:VEVENT
END:VCALENDAR