BEGIN:VCALENDAR
VERSION:2.0
PRODID:-//der-energieheiler.com - ECPv6.15.18//NONSGML v1.0//EN
CALSCALE:GREGORIAN
METHOD:PUBLISH
X-WR-CALNAME:der-energieheiler.com
X-ORIGINAL-URL:https://www.der-energieheiler.de
X-WR-CALDESC:Veranstaltungen für der-energieheiler.com
REFRESH-INTERVAL;VALUE=DURATION:PT1H
X-Robots-Tag:noindex
X-PUBLISHED-TTL:PT1H
BEGIN:VTIMEZONE
TZID:Europe/Berlin
BEGIN:DAYLIGHT
TZOFFSETFROM:+0100
TZOFFSETTO:+0200
TZNAME:CEST
DTSTART:20250330T010000
END:DAYLIGHT
BEGIN:STANDARD
TZOFFSETFROM:+0200
TZOFFSETTO:+0100
TZNAME:CET
DTSTART:20251026T010000
END:STANDARD
BEGIN:DAYLIGHT
TZOFFSETFROM:+0100
TZOFFSETTO:+0200
TZNAME:CEST
DTSTART:20260329T010000
END:DAYLIGHT
BEGIN:STANDARD
TZOFFSETFROM:+0200
TZOFFSETTO:+0100
TZNAME:CET
DTSTART:20261025T010000
END:STANDARD
BEGIN:DAYLIGHT
TZOFFSETFROM:+0100
TZOFFSETTO:+0200
TZNAME:CEST
DTSTART:20270328T010000
END:DAYLIGHT
BEGIN:STANDARD
TZOFFSETFROM:+0200
TZOFFSETTO:+0100
TZNAME:CET
DTSTART:20271031T010000
END:STANDARD
END:VTIMEZONE
BEGIN:VEVENT
DTSTART;VALUE=DATE:20260806
DTEND;VALUE=DATE:20260808
DTSTAMP:20260420T000824
CREATED:20250120T231534Z
LAST-MODIFIED:20260223T193935Z
UID:8356-1785974400-1786147199@www.der-energieheiler.de
SUMMARY:Basis Klangmassage Entspannung Zweitägiges Ausbildungsseminar mit Jochen Radermacher
DESCRIPTION:Basis Klangmassage Entspannung  \nZweitägiges Ausbildungsseminar mit Jochen Radermacher\nBei der Klangmassage wird mit speziellen Therapieklangschalen ohne direkte körperliche Berührungen des Behandlers gearbeitet. Durch die Schwingungen der Klanginstrumente entsteht das Gefühl eines „sanften bewegt werden“\, was als Massage empfunden wird. Im bekleideten Zustand werden die Klangschalen auf den Körper behutsam aufgesetzt und mit einer speziellen Technik sanft angeschlagen. Ein wohliges und (tiefen-)entspanntes Gefühl bis hin zum Alpha-Zustand kann entstehen. Dies ist möglich\, da der Wasseranteil im Körper\, der ca. 70% ausmacht\, die therapeutischen Schwingungen aufnimmt und weiterleitet. \nIn der Basis Ausbildung werden 4 Klangschalen verwendet: Eine Beckenschale\, eine Gelenkschale (Universalschale)\, eine Herzschale und eine Ausleitungsschale. Die therapeutische Wirkung entsteht durch die Schwingungsfrequenz der Klangschlagen\, die dem menschlichen Körper sehr nahe ist und so eine wohltuende und regenerierende Entspannung ermöglicht. \nDie Wirkungsweise einer Klangmassage im Überblick: \n\nbewirkt tiefe Entspannung\nspricht Körper\, Geist und Seele an\nerleichtert das Loslassen\nstärkt Selbstbewusstsein\, Kreativität\, Schaffenskraft und Motivation\nträgt zur Gesundheitsförderung bei\nunterstützt und verbessert die Körperwahrnehmung\n\nDabei ist jede Klangmassage sehr individuell. Entscheidend ist die Haltung des Behandlers: Achtsamkeit\, Wertschätzung\, Lösungsorientierung\, ganzheitlicher Blick etc. Auch wie intensiv die Klangschlagen während einer Massage angeschlagen werden\, wird ausführlich besprochen und durch gegenseitige Behandlungen im Seminar erlebt und intensiv geübt. \nAbgerundet wird der praktische Teil mit allem Wissenswerten über Schlägel Techniken und Klangschalen. Auch die Möglichkeit ein eigenes Klangschalenset auszusuchen und zu kaufen\, um zu Hause direkt Gelerntes umzusetzen\, ist gegeben. \nAm Ende des Seminars sind Sie befähigt eine entspannende Klangmassage zu geben und haben eine sehr gute Basis für aufbauende Klangbehandlungen wie z.B. körperliche Blockaden zu lösen\, erworben. Auch um Klang-Mediationen zu erlernen und zu geben haben Sie den Grundstein gelegt. Ebenfalls für Wiederholer bietet dieses Seminar durch die vielen Praxisübungen eine gute Vertiefung der Kenntnisse. \n  \nIm Seminarbeitrag enthalten sind: \n\nSeminarunterlagen (z.B. Massageabfolge\, Behandlungsplanung).\n\n\nKaffee\, Tee\, energetisiertes Wasser und kleine Snacks. Mittagspause in Selbstverpflegung.\noder zusammen zum Marco Polo im Ort jeder zu Selbstkosten.\nSeminarzertifikat.\n\nWeitere Informationen: \n\nBitte mitbringen: Schreibmaterialien\, kleines und großes Handtuch\, warme Decke und Socken sowie gute Laune.\nDresscode: Angenehme lockere/ bequeme/ möglichst geräuschfreie Kleidung\, lange Hose.\nKeine Vorkenntnisse erforderlich!\nAuf dieses Seminar baut die „Klangpraktiker-Ausbildung“ auf.\n\nSeminarzeiten: \nBasisausbildung 2 Tage Do. 06.August/Fr. 07. August 2026\n1 Tag von 10:00 Uhr bis 18:00 Uhr\n2 Tag von 10:00 Uhr bis 16:00 Uhr\n  \nVertiefungsausbildung 5 Tage\ntäglich 10:00 Uhr bis 18:00 Uhr\, Neuer Termin in 2026 volgt\nJeder Teilnehmer trägt die volle eigene Verantwortung für seine Handlungen und Erfahrungen während des Seminars und der Pausen. Eine Haftung des Veranstalters\, Dozenten oder Seminarhauses wird abgelehnt. \nAlle Leistungen des Seminars ersetzen keine ärztlichen oder therapeutischen Behandlungen. Keine Diagnosen. Über diese Klarstellung bin oder werde ich ausreichend vor dem Seminar aufgeklärt. \n  \nAnmeldung: \nSchule für Geist-Körper-Energie-Arbeit\, Gesundheitspraxis Klangraum\nJochen Radermacher\, Gildenweg 6\, 50354 Hürth-Gleuel\, Tel: 0163-1829984\ninfo@der-energieheiler.de \nwww.der-energieheiler.de \n  \n  \n\nAnmeldung zum Seminar\nBasis Klangmassage Entspannung \nZweitägiges Ausbildungsseminar mit Jochen Radermacher\nName\, Vorname: _ _ _ _ _ _ _ _ _ _ _ _ _ _ _ _ _ _ _ _ _ __ _ _ _ _ _ _ _ _ _ _ _ _ \nAdresse: _ _ _ _ _ _ _ _ _ _ _ _ _ _ _ _ _ _ _ _ _ _ _ _ _ _ _ __ _ _ _ _ _ _ _ _ _ _ _ \nTelefon: _ _ _ _ _ _ _ _ _ _ _ _ _ _ _ _   E-Mail: _ _ _ _ _ _ _ _ _ _ _ _ _ _ _ _ _ _ _ \n  \nTermin:                         Do. 06.August/Fr. 07. August 2026 \nSeminarzeiten:            1. Tag: 10:00 – 18:00 Uhr           2. Tag: 10:00 – 16:00 Uhr \nVeranstaltungsort:     Schule für Geist-Körper-Energie-Arbeit\, Gildenweg 6\, 50354 Hürth-Gleuel \nSeminargebühr:          € 333\,–incl. 19% Mwst.(53\,17 €) Netto 279\,83 € (Wiederholerrabatt 50%\, Neukundenempfehlungsprämie 10%) \nIm Seminarbeitrag enthalten sind: \n\nSeminarunterlagen (z.B. Massageabfolge\, Behandlungsplanung).\nKaffee\, Tee\, energetisiertes Wasser und kleine Snacks. Mittagspause in Selbstverpflegung. (Auf Wunsch gehen wir gemeinsam raus oder bestellen beim Lieferservice).\n\n\nWeitere Informationen: \n\nBitte mitbringen: Schreibmaterialien\, kleines und großes Handtuch\, warme Decke und Socken sowie gute Laune.\nDresscode: Angenehme lockere/ bequeme/ möglichst geräuschfreie Kleidung\, lange Hose.\nKeine Vorkenntnisse erforderlich!\nAuf dieses Seminar baut die „Klangpraktiker-Ausbildung“ auf.\n\nÜbernachtungs-Empfehlungen: Hotel Am Freischütz (500 m) 02235-93233-0\, Apart-Hotel Scheuer (300 m)\, (Tel 02233-31059)\, BB Hotel Frechen (2\,5 km) 02234208-0 \n  \nJeder Teilnehmer trägt die volle eigene Verantwortung für seine Handlungen und Erfahrungen während des Seminars und der Pausen. Eine Haftung des Veranstalters\, Dozenten oder Seminarhauses wird abgelehnt.\nAlle Leistungen des Seminars ersetzen keine ärztlichen oder therapeutischen Behandlungen. Keine Diagnosen. Über diese Klarstellung bin oder werde ich ausreichend vor dem Seminar aufgeklärt. \n  \nOrt______________                                              Datum ____________ \n  \n  \n________________________\nverbindliche Unterschrift zur Buchung
URL:https://www.der-energieheiler.de/event/basis-klangmassage-entspannung/
LOCATION:50354 Hürth Gildenweg 6\, Deutschland
CATEGORIES:50354 Hürth Gleuel
END:VEVENT
BEGIN:VEVENT
DTSTART;TZID=Europe/Berlin:20260808T100000
DTEND;TZID=Europe/Berlin:20260809T180000
DTSTAMP:20260420T000824
CREATED:20260223T200844Z
LAST-MODIFIED:20260223T200844Z
UID:8629-1786183200-1786298400@www.der-energieheiler.de
SUMMARY:Klangmeditation Ausbildung in Hürth mit Jochen Radermacher
DESCRIPTION:Text in kürze
URL:https://www.der-energieheiler.de/event/klangmeditation-ausbildung-in-huerth-mit-jochen-radermacher/
LOCATION:50354 Hürth Gildenweg 6\, Deutschland
CATEGORIES:50354 Hürth Gleuel
END:VEVENT
BEGIN:VEVENT
DTSTART;TZID=Europe/Berlin:20260820T100000
DTEND;TZID=Europe/Berlin:20260821T180000
DTSTAMP:20260420T000824
CREATED:20240306T230959Z
LAST-MODIFIED:20260223T213934Z
UID:8160-1787220000-1787335200@www.der-energieheiler.de
SUMMARY:Wirbelsäulen- und Gelenkbehandlung nach DORN & BREUSS Massage in Hürth
DESCRIPTION:  \nWirbelsäulen- und Gelenkbehandlung nach DORN & BREUSS Massage\n \nBeinlängendifferenzausgleich\n \n \nBreuss-Massage\n  \nZweitägiges Ausbildungsseminar mit Jochen Radermacher \nEs gibt viele körperliche Beschwerden\, die im Zusammenhang mit der Wirbelsäule und unserem Bewegungsapparat stehen. Der Allgäuer Volksheiler Dieter Dorn hat 1975 eine Form der manuellen Therapie entwickelt\, die sich als komplementärmedizinische Methode versteht und u.a. auch Elemente der Traditionellen Chinesischen Medizin (TCM) einbezieht.  Mit leicht anwendbaren\, gefühlvollen und einfach zu erlernenden händischen Arbeitsweisen bietet diese Behandlungsmethode Hilfe und Selbsthilfe für viele Rücken- und Gelenk-Probleme. Dabei wird mit einfachen Griffen und sanfter Drucktechnik eine Behandlung ohne Medikamente und ohne ungewollte Nebenwirkungen oder Risiken angewendet. \n  \nDieses Seminar ist für alle Menschen geeignet\, die DORN zum eigenen Nutzen anwenden wollen. Therapeuten\, Ärzte und Heilpraktiker\, Physiotherapeuten\, Krankengymnasten erhalten mit DORN eine sehr einfache und erfolgreiche Basis-Therapie\, um bei ihren Patienten sofort Erfolge zu erzielen. Auch interessierte Laien und Gesundheits-Berater können DORN zum eigenen Nutzen erlernen. \n  \nAußerdem erlernen Sie die BREUSS Massage\, die sehr hilfreich bei Bandscheiben-Problemen und zur Vor- oder Nachbehandlung von DORN-Anwendungen ist. Auch als Wellness-Behandlung ist die BREUSS Massage sehr gut geeignet. \n  \nDies ist ein praxisorientiertes Seminar\, bei dem jeder Teilnehmer unter fachkundiger Seminarleitung selbst behandelt und behandelt wird. Die DORN-Selbsthilfe-Übungen und die BREUSS Massage werden intensiv geübt. \n  \nVoraussetzung für die Teilnahme am Seminar sind neben gesunden Händen\, Offenheit für das Neue. \n  \nAuch für Wiederholer bietet dieses Seminar durch die vielen Praxisübungen eine gute Vertiefung der Kenntnisse. \nAktuelle Informationen zum Seminar\, den Terminen\, Seminarzeiten und Preise unter  www.der-energieheiler.de/Terminkalender \n  \n  \nWirbelsäulen- und Gelenkbehandlung nach DORN & BREUSS Massage \nZweitägiges Ausbildungsseminar mit Jochen Radermacher \n  \nAktuelle Informationen zum Seminar\, den Terminen\, Seminarzeiten und Preise unter  www.der-energieheiler.de/Terminkalender \n  \nIm Seminarbeitrag enthalten sind: \n\nSeminarunterlagen und Seminarmaterialien (z.B. Massageöl).\n\n\nKaffee\, Tee\, energetisiertes Wasser und kleine Snacks. Mittagspause in Selbstverpflegung.\nSeminarzertifikat.\n\nWeitere Informationen: \n\nBitte mitbringen: Schreibmaterialien\, kleines und großes Handtuch\, warme Socken und gute Laune.\nDresscode: Angenehme lockere/bequeme Kleidung.\nKeine Vorkenntnisse erforderlich!\n\n  \nJeder Teilnehmer trägt die volle eigene Verantwortung für seine Handlungen und Erfahrungen während des Seminars und der Pausen. Eine Haftung des Veranstalters\, Dozenten oder Seminarhauses wird abgelehnt. \nAlle Leistungen des Seminars ersetzen keine ärztlichen oder therapeutischen Behandlungen. Keine Diagnosen. Über diese Klarstellung bin oder werde ich ausreichend vor dem Seminar aufgeklärt. \n  \n  \nAnmeldung: \nSchule für Geist-Körper-Energie-Arbeit\, Gesundheitspraxis Klangraum\nJochen Radermacher\, Gildenweg 6\, 50354 Hürth-Gleuel\, Tel: 0163-1829984\ninfo@der-energieheiler.de \nwww.der-energieheiler.de \nAnmeldung zum Seminar \nWirbelsäulen- und Gelenkbehandlung nach DORN & Breuss Massage \nZweitägiges Ausbildungsseminar mit Jochen Radermacher \nName\, Vorname: _ _ _ _ _ _ _ _ _ _ _ _ _ _ _ _ _ _ _ _ _ __ _ _ _ _ _ _ _ _ _ _ _ _ \nAdresse: _ _ _ _ _ _ _ _ _ _ _ _ _ _ _ _ _ _ _ _ _ _ _ _ _ _ _ __ _ _ _ _ _ _ _ _ _ _ _ \nTelefon: _ _ _ _ _ _ _ _ _ _ _ _ _ _ _ _   E-Mail: _ _ _ _ _ _ _ _ _ _ _ _ _ _ _ _ _ _ _ \n  \nTermine:                      Do. 20. + Fr. 21. August 2026 \nSeminarzeiten:            1. Tag: 10:00 – 18:00 Uhr    2. Tag: 10:00 – 18:00 Uhr \n  \nVeranstaltungsort:     Schule für Geist-Körper-Energie-Arbeit\,\nGildenweg 6\, 50354 Hürth-Gleuel \n  \nSeminargebühr:          € 333\,– (Wiederholer erhalten einen Rabatt von 50%) \n  \nIm Seminarbeitrag enthalten sind: \n\nSeminarunterlagen und Seminarmaterialien (z.B. Massageöl).\n\n\nKaffee\, Tee\, energetisiertes Wasser und kleine Snacks. Mittagspause in Selbstverpflegung. (Auf Wunsch gehen wir gemeinsam raus oder bestellen beim Lieferservice).\nSeminarzertifikat.\n\nWeitere Informationen: \n\nBitte mitbringen: Schreibmaterialien\, kleines und großes Handtuch\, warme Socken und gute Laune.\nDresscode: Angenehme lockere/bequeme Kleidung.\nKeine Vorkenntnisse erforderlich!\n\nÜbernachtungs-Empfehlungen: Hotel Am Freischütz (500 m)\, Apart-Hotel Scheuer (300 m\, Tel 02233-31059)\, BB Hotel Frechen (2\,5 km) \nJeder Teilnehmer trägt die volle eigene Verantwortung für seine Handlungen und Erfahrungen während des Seminars und der Pausen. Eine Haftung des Veranstalters\, Dozenten oder Seminarhauses wird abgelehnt. \nAlle Leistungen des Seminars ersetzen keine ärztlichen oder therapeutischen Behandlungen. Keine Diagnosen. Über diese Klarstellung bin oder werde ich ausreichend vor dem Seminar aufgeklärt. \n  \nOrt _____________________                                     Datum ___________ \n  \n  \n____________________________\nverbindliche Unterschrift zur Buchung
URL:https://www.der-energieheiler.de/event/8160/
LOCATION:50354 Hürth Gildenweg 6\, Deutschland
CATEGORIES:50354 Hürth Gleuel
END:VEVENT
BEGIN:VEVENT
DTSTART;VALUE=DATE:20260822
DTEND;VALUE=DATE:20260824
DTSTAMP:20260420T000824
CREATED:20231228T211830Z
LAST-MODIFIED:20260223T204022Z
UID:8074-1787356800-1787529599@www.der-energieheiler.de
SUMMARY:Akupunktur ohne Nadeln mit den Magnet-Stiften Zweitägiges Ausbildungsseminar mit Jochen Radermacher Hürth 2026
DESCRIPTION:Akupunktur ohne Nadeln mit den Magnet-Stiften\n\n\n  \nZweitägiges Ausbildungsseminar mit Jochen Radermacher\nDie richtige Anwendung von Akupunkturnadeln benötigen ein umfangreiches Wissen und Materialen – die Magnet-Stifte hingegen können unkompliziert und leicht direkt auf der Haut\, aber auch auf Kleidung eingesetzt werden. Der Umgang mit den Magnet-Stiften ist denkbar einfach. Die Effizienz extrem hoch. \nSie sind Arzt\, Physiotherapeut\, Masseur\, Heilpraktiker\, Wellness- oder Gesundheitstrainer\, arbeiten in sonstigen Heilberufen oder wollen die Handhabung der Magnet-Stiften für eine Selbstbehandlung nutzen? \nIn diesem Seminar lernen Sie die einfache Handhabung der Akupunkturstifte. Es wird ausreichend gegenseitig geübt. Am Ende des Seminars können Sie die Stifte zielgerichtet einsetzen: Zur Fremd- und Selbstbehandlung. \nEinsatzbereiche: \nProphylaxe: Die Magnet-Stifte sind ein einfach zu handhabendes Werkzeug\, den Fluss der Lebensenergie wiederherzustellen und ihn aufrecht zu erhalten. \nEntgiftung: Die beste Prophylaxe ist und bleibt die Entgiftung. Da die Magnet-Stiften ein Werkzeug zur Aus- und Ableitung sind\, sind sie auch sehr gut für die Entgiftung des Körpers geeignet. \nNarben entstören: Narben sind energetische Störfelder und können das Wohlbefinden teils erheblich mindern. Sie können beispielsweise immense Energieblockaden und somit chronische Schmerzen auslösen. Mit den Magnet-Stifte ist eine energetische Entstörung möglich! \nHilfe bei Erkrankungen: Alle Krankheiten\, angefangen vom Schnupfen über schwere\, chronische Erkrankungen bis hin zu manifestierten Erkrankungen\, haben ihren Ursprung in der Störung des Energieflusses. Hier können die Magnet-Stifte entscheidend dazu beitragen\, dass die Gesundung durch eine Entstörung des blockierten Energieflusses beschleunigt wird. \nSchmerztherapie: Auch in der Schmerztherapie können die Magnet-Stifte neue Möglichkeiten eröffnen\, denn jeder Schmerz ist quasi ein Schrei des Gewebes nach fliesender Energie. Es ist durchaus möglich\, dass Schmerzen und andere Symptome\, welche sogar über Jahre hinweg andauern\, nach einigen Tagen der Anwendung verschwunden sind. \nMedikamenteneinnahme: Die Magnet-Stifte können auch während der Einnahme von Medikamenten angewendet werden. Bei Problemen innerer Organe oder begleitend zu einer Physiotherapie\, kann die Kombination sogar sehr hilfreich sein. \nAkupunktur ohne Nadeln mit den Magnet-Stiften \nZweitägiges Ausbildungsseminar mit Jochen Radermacher \nIm Seminarbeitrag enthalten sind: \n\numfangreiche Seminarunterlagen und -Anleitungen zur Anwendung der Magnet-Stiften.\n\n\nKaffee\, Tee\, energetisiertes Wasser und kleine Snacks incl.. Mittagspause in Selbstverpflegung. (Auf Wunsch gehen wir gemeinsam raus oder bestellen beim Lieferservice).\nSeminarzertifikat.\n\nWeitere Informationen: \n\nDie Magnet-Stifte stehen während des Seminars kostenfrei zur Verfügung und können im Anschluss vergünstig erworben werden.\nBitte mitbringen: Schreibmaterialien\, kleines und großes Handtuch\, warme Socken und gute Laune.\nDresscode: Angenehme lockere/bequeme Kleidung. Bitte Wechselkleidung für die eigene Behandlung mitbringen\, da energetische Prozesse starkes Schwitzen verursachen können.\nKeine Vorkenntnisse erforderlich!\n\nJeder Teilnehmer trägt die volle eigene Verantwortung für seine Handlungen und Erfahrungen während des Seminars und der Pausen. Eine Haftung des Veranstalters\, Dozenten oder Seminarhauses wird abgelehnt. \nAlle Leistungen des Seminars ersetzen keine ärztlichen oder therapeutischen Behandlungen. Keine Diagnosen. Über diese Klarstellung bin oder werde ich ausreichend vor dem Seminar aufgeklärt. \n  \n \nAnmeldung:\nSchule für Geist-Körper-Energie-Arbeit\, Gesundheitspraxis Klangraum\nJochen Radermacher\, Gildenweg 6\, 50354 Hürth-Gleuel\, Tel: 0163-1829984\ninfo@der-energieheiler.de \nwww.der-energieheiler.de \nAnmeldung zum Seminar \nAkupunktur ohne Nadeln mit den Magnet-Stifte \nZweitägiges Ausbildungsseminar mit Jochen Radermacher \n  \n  \nName\, Vorname: _ _ _ _ _ _ _ _ _ _ _ _ _ _ _ _ _ _ _ _ _ __ _ _ _ _ _ _ _ _ _ _ _ _ \nAdresse: _ _ _ _ _ _ _ _ _ _ _ _ _ _ _ _ _ _ _ _ _ _ _ _ _ _ _ __ _ _ _ _ _ _ _ _ _ _ _ \nTelefon: _ _ _ _ _ _ _ _ _ _ _ _ _ _ _ _ _   E-Mail: _ _ _ _ _ _ _ _ _ _ _ _ _ _ _ _ _ _ \n  \nTermine:                   Sa. 22. + So. 23. August 2026 \n  \nSeminarzeiten:            1. Tag: 10:00 – 18:00 Uhr    2. Tag: 10:00 – 16:00 Uhr \n  \nVeranstaltungsort:     Schule für Geist-Körper-Energie-Arbeit\, 50354 Hürth Gleuel Gildenweg 6 \n  \nSeminargebühr:          € 333\,–incl. 19% MwSt.(53\,17 €) Netto 279\,83 € (Wiederholerrabatt 50%\, Neukundenempfehlungsprämie 10%) \n  \nIm Seminarbeitrag enthalten sind: \n\numfangreiche Seminarunterlagen und -Anleitungen zur Anwendung der Magnet-Stifte.\n\n\nKaffee\, Tee\, energetisiertes Wasser und kleine Snacks. Mittagspause in Selbstverpflegung. (Auf Wunsch gehen wir gemeinsam raus oder bestellen beim Lieferservice).\nSeminarzertifikat.\n\nWeitere Informationen: \n\nDie Magnet-Stifte stehen während des Seminars kostenfrei zur Verfügung und können im Anschluss vergünstig erworben werden.\nBitte mitbringen: Schreibmaterialien\, kleines und großes Handtuch\, warme Socken und gute Laune.\nDresscode: Angenehme lockere/bequeme Kleidung. Bitte Wechselkleidung für die eigene Behandlung mitbringen\, da energetische Prozesse starkes Schwitzen verursachen können.\nKeine Vorkenntnisse erforderlich!\n\nJeder Teilnehmer trägt die volle eigene Verantwortung für seine Handlungen und Erfahrungen während des Seminars und der Pausen. Eine Haftung des Veranstalters\, Dozenten oder Seminarhauses wird abgelehnt.\nAlle Leistungen des Seminars ersetzen keine ärztlichen oder therapeutischen Behandlungen. Keine Diagnosen. Über diese Klarstellung bin oder werde ich ausreichend vor dem Seminar aufgeklärt. \n  \nOrt _____________________                                     Datum____________ \n  \n__________________________\nverbindliche Unterschrift zur Buchung \n 
URL:https://www.der-energieheiler.de/event/8074/
LOCATION:50354 Hürth Gildenweg 6\, Deutschland
CATEGORIES:50354 Hürth Gleuel
END:VEVENT
END:VCALENDAR