BEGIN:VCALENDAR
VERSION:2.0
PRODID:-//der-energieheiler.com - ECPv6.15.18//NONSGML v1.0//EN
CALSCALE:GREGORIAN
METHOD:PUBLISH
X-WR-CALNAME:der-energieheiler.com
X-ORIGINAL-URL:https://www.der-energieheiler.de
X-WR-CALDESC:Veranstaltungen für der-energieheiler.com
REFRESH-INTERVAL;VALUE=DURATION:PT1H
X-Robots-Tag:noindex
X-PUBLISHED-TTL:PT1H
BEGIN:VTIMEZONE
TZID:Europe/Berlin
BEGIN:DAYLIGHT
TZOFFSETFROM:+0100
TZOFFSETTO:+0200
TZNAME:CEST
DTSTART:20250330T010000
END:DAYLIGHT
BEGIN:STANDARD
TZOFFSETFROM:+0200
TZOFFSETTO:+0100
TZNAME:CET
DTSTART:20251026T010000
END:STANDARD
BEGIN:DAYLIGHT
TZOFFSETFROM:+0100
TZOFFSETTO:+0200
TZNAME:CEST
DTSTART:20260329T010000
END:DAYLIGHT
BEGIN:STANDARD
TZOFFSETFROM:+0200
TZOFFSETTO:+0100
TZNAME:CET
DTSTART:20261025T010000
END:STANDARD
BEGIN:DAYLIGHT
TZOFFSETFROM:+0100
TZOFFSETTO:+0200
TZNAME:CEST
DTSTART:20270328T010000
END:DAYLIGHT
BEGIN:STANDARD
TZOFFSETFROM:+0200
TZOFFSETTO:+0100
TZNAME:CET
DTSTART:20271031T010000
END:STANDARD
END:VTIMEZONE
BEGIN:VEVENT
DTSTART;TZID=Europe/Berlin:20260904T183000
DTEND;TZID=Europe/Berlin:20260904T193000
DTSTAMP:20260420T014836
CREATED:20250829T210348Z
LAST-MODIFIED:20260223T191635Z
UID:8527-1788546600-1788550200@www.der-energieheiler.de
SUMMARY:Gong Meditation in der Kirche Lichtringhausen Attendorn Gong & XXL Klangschalen großes Oktav- Monochord
DESCRIPTION: Klang Gong Meditation in der Kirche Lichtringhausen\nGanz besondere Außergewöhnliche im letzten Jahr sehr gut besucht \nTiefenentspannung durch Klangmeditation\nKlang 8-XXL Gongs Meditation & 15 XXL Klangschalen großes Oktav- Monochord\nDieses mal komme ich mit einem Team Gongspieler\n  \n Kirche Lichtringhausen\, Plettenbergerstraße 119\, 57439 Attendorn\nExklusiv \n \nHier findet diese Klangmeditation statt  Lichtringhausen 10.Juli 2025   \nSanfte und harmonische Schwingungen fließen durch den Körper.\nRuhig und gleichmäßig erklingen die Klangschalen.\nTiefe innere Ruhe kehrt ein.\nDie Schwingung können Verspannungen Blockaden lösen.\nEin sorgenfreier erholsamer Raum kann entstehen.\nSein kann so schön sein! \n Diese Klangmeditation beginnt mit einer 15-minütige Einführung. Was bewirken der Klang und die Schwingung in meinem Körper? Danach genießen Sie 90 Minuten meditative Klänge in der Kirche.\nBringen Sie bitte eine Unterlage (zB\, Kissen und eine Decke mit um sehr gut zu sitzen. Gutes sitzen gute Unterlage ist sehr Wichtig um eine 1\, 1/2 Stunde sehr gut zu sitzen und zu Entspannen. \nTiefenentspannung durch Klangmeditation dieses mal im sitzen in der Kirche\n\n\nDatum: Freitag 04.09.2026\, 18:30. Uhr (Einlass 18:00 Uhr)  \,Kirche Plettenbergerstraße 119\, 57439 Attendorn Lichtringhausen \nGegenwert: 25 EUR  Anmeldung  vorher erforderlich minderst Teilnehmer Anzahl 40\n \nAnmeldung bei:  \n   \nDie Gesundheitspraxis-Klangraum \nSchule für Geistige-Körper-Energie-Arbeit\nJochen Radermacher\, Gildenweg 6\, 50354 Hürth Gleuel      \n                    (Tel: 0163-1829984)\nE-Mail: info@der-energieheiler.de                                                         Internet: www.Der-Energieheiler.de \noder \nConny Lübke \nAlte Dorfstrasse 15 \n57439 Attendorn \nTel.: 02722 50823 \nMobil: 015906176832   +49 178 384 9310 \nEmail: al1-luebke@web.de
URL:https://www.der-energieheiler.de/event/8527/
LOCATION:Kirche Lichtringhausen Plettenbergerstr. 119\, 57439 Attendorn\, Plettenbergerstr.119\, Kirche Attendorn Lichtringhausen\, 57439\, Germany
CATEGORIES:57439 Attendorn
END:VEVENT
END:VCALENDAR