BEGIN:VCALENDAR
VERSION:2.0
PRODID:-//der-energieheiler.com - ECPv6.15.18//NONSGML v1.0//EN
CALSCALE:GREGORIAN
METHOD:PUBLISH
X-WR-CALNAME:der-energieheiler.com
X-ORIGINAL-URL:https://www.der-energieheiler.de
X-WR-CALDESC:Veranstaltungen für der-energieheiler.com
REFRESH-INTERVAL;VALUE=DURATION:PT1H
X-Robots-Tag:noindex
X-PUBLISHED-TTL:PT1H
BEGIN:VTIMEZONE
TZID:Europe/Berlin
BEGIN:DAYLIGHT
TZOFFSETFROM:+0100
TZOFFSETTO:+0200
TZNAME:CEST
DTSTART:20250330T010000
END:DAYLIGHT
BEGIN:STANDARD
TZOFFSETFROM:+0200
TZOFFSETTO:+0100
TZNAME:CET
DTSTART:20251026T010000
END:STANDARD
BEGIN:DAYLIGHT
TZOFFSETFROM:+0100
TZOFFSETTO:+0200
TZNAME:CEST
DTSTART:20260329T010000
END:DAYLIGHT
BEGIN:STANDARD
TZOFFSETFROM:+0200
TZOFFSETTO:+0100
TZNAME:CET
DTSTART:20261025T010000
END:STANDARD
BEGIN:DAYLIGHT
TZOFFSETFROM:+0100
TZOFFSETTO:+0200
TZNAME:CEST
DTSTART:20270328T010000
END:DAYLIGHT
BEGIN:STANDARD
TZOFFSETFROM:+0200
TZOFFSETTO:+0100
TZNAME:CET
DTSTART:20271031T010000
END:STANDARD
END:VTIMEZONE
BEGIN:VEVENT
DTSTART;TZID=Europe/Berlin:20261017T100000
DTEND;TZID=Europe/Berlin:20261018T180000
DTSTAMP:20260420T034551
CREATED:20210514T153423Z
LAST-MODIFIED:20260223T195544Z
UID:3402-1792231200-1792346400@www.der-energieheiler.de
SUMMARY:Energetische Wirbelsäulenaufrichtung 2-tägiges Ausbildungsseminar in Hürth
DESCRIPTION:Energetische Wirbelsäulenaufrichtung\nZweitägiges Ausbildungsseminar mit Jochen Radermacher\nWirbelsäulenaufrichtung\nVorher und Nachher\nDie korrekte Aufrichtung der Wirbelsäule ist eine Voraussetzung für das Wohlbefinden des Menschen. Die Körperhaltung und die Ausrichtung der Füße können wichtige Hinweise auf den gegenwärtigen seelischen Zustand des Körpers und die Einstellung zum Leben geben. Alle emotionalen Empfindungen\, die wir in unserem Leben erfahren\, werden in unserer Wirbelsäule gespeichert. Sie reagiert darauf mit Krümmung\, Überlastung oder Verschiebung der Bandscheiben. \n  \nDie energetische Aufrichtung ist eine Form des geistigen Heilens\, die nicht nur auf die Wirbelsäule wirkt\, sondern auch eine Wiederherstellung der natürlichen Ordnung von Körper\, Geist und Seele herbeiführt. Dadurch werden die Selbstheilungskräfte angeregt\, die Wirbelsäule richtet sich auf und Beinlängendifferenz und Beckenschiefstand gleichen sich aus. \n  \nDie Wirbelsäule stellt den Schlüssel zu allen Ebenen des Bewusstseins bei Menschen und Tieren dar. Die korrekte geistige Aufrichtung bildet somit eine zentrale Grundlage für das Wohlbefinden. \n  \nSeminarinhalte: \n\nGrundlagen zur Anatomie der Wirbelsäule\nRichtiges Stehen\, richtiges Gehen – Praxisübungen\nTechniken zur Stabilisierung und Aufrichtung des Körpers\nEinführung in die Chakren-Arbeit und die Arbeit mit dem Pendel für den Chakren-Ausgleich\nWechselwirkung: Wirbelsäulenaufrichtung und Chakren-Ausgleich\ngeistige energetische Einweihung\ngeistige Wirbelsäulenaufrichtung in Theorie und Praxis\n\nNach diesem Seminar sind Sie befähigt\, die geistige-energetische Wirbelsäulenaufrichtung bei Menschen und Tieren (Hund\, Katze\, Pferd) anzuwenden. \nIm Seminarbeitrag enthalten sind umfangreiche Seminarunterlagen\, ein Seminarzertifikat\, Kaffee\, Tee\, energetisiertes Wasser und kleine Snacks. Mittagspause in Selbstverpflegung. \nMitzubringen sind Schreibmaterialien und gute Laune. Es sind keine Vorkenntnisse erforderlich! \nJeder Teilnehmer trägt die volle eigene Verantwortung für seine Handlungen und Erfahrungen während des Seminars und der Pausen. Eine Haftung des Veranstalters\, Dozenten oder Seminarhauses wird abgelehnt. \nAlle Leistungen des Seminars ersetzen keine ärztlichen oder therapeutischen Behandlungen. Keine Diagnosen. Über diese Klarstellung bin oder werde ich ausreichend vor dem Seminar aufgeklärt. \n  \nAnmeldung: \nSchule für Geist-Körper-Energie-Arbeit\, Gesundheitspraxis Klangraum\nJochen Radermacher \nGildenweg 6 \n50354 Hürth-Gleuel  \nTel: 0163-1829984 \n\ninfo@der-energieheiler.de \nwww.der-energieheiler.de \n\nAnmeldung zum Seminar \nEnergetische Wirbelsäulenaufrichtung\nZweitägiges Ausbildungsseminar mit Jochen Radermacher\nName\, Vorname: _ _ _ _ _ _ _ _ _ _ _ _ _ _ _ _ _ _ _ _ _ __ _ _ _ _ _ _ _ _ _ _ _ _ \nAdresse: _ _ _ _ _ _ _ _ _ _ _ _ _ _ _ _ _ _ _ _ _ _ _ _ _ _ _ __ _ _ _ _ _ _ _ _ _ _ _ \nTelefon: _ _ _ _ _ _ _ _ _ _ _ _ _ _ _ _ _   E-Mail: _ _ _ _ _ _ _ _ _ _ _ _ _ _ _ _ _ _ \n  \nTermine:                      17. – 18. Oktober 2026 \n  \nSeminarzeiten:            1. und 2. Tag: 10:00 – 18:00 Uhr \n  \nVeranstaltungsort:     Schule für Geist-Körper-Energie-Arbeit\, Gildenweg 6\, 50354 Hürth-Gleuel \n  \nSeminargebühr:          € 333\,–incl. 19% MwSt.(53\,17 €) Netto 279\,83 € (Wiederholerrabatt 50%\, Neukundenempfehlungsprämie 10%) \n  \nIm Seminarbeitrag enthalten sind: \n\nSeminarunterlagen und Seminarzertifikat\n\n\nKaffee\, Tee\, energetisiertes Wasser und kleine Snacks. Mittagspause in Selbstverpflegung. (Auf Wunsch gehen wir gemeinsam raus oder bestellen beim Lieferservice).\n\nWeitere Informationen: \n\nBitte mitbringen: Schreibmaterialien und gute Laune.\nDresscode: Angenehme lockere/bequeme Kleidung.\nKeine Vorkenntnisse erforderlich!\n\nÜbernachtungs-Empfehlungen: Hotel Am Freischütz (500 m)\, Apart-Hotel Scheuer (300 m\, Tel 02233-31059)\, BB Hotel Frechen (2\,5 km) \nJeder Teilnehmer trägt die volle eigene Verantwortung für seine Handlungen und Erfahrungen während des Seminars und der Pausen. Eine Haftung des Veranstalters\, Dozenten oder Seminarhauses wird abgelehnt. \nAlle Leistungen des Seminars ersetzen keine ärztlichen oder therapeutischen Behandlungen. Keine Diagnosen. Über diese Klarstellung bin oder werde ich ausreichend vor dem Seminar aufgeklärt. \n  \nOrt _____________________                                     Datum ___________   \n  \n  \n___________________________\nverbindliche Unterschrift zur Buchung
URL:https://www.der-energieheiler.de/event/energetische-wirbelsaeulenaufrichtung-ausbildungsseminar/
LOCATION:Gesundheitspraxis-Klangraum\, Gildenweg 6\, Hürth\, NRW\, 50354\, Deutschland
CATEGORIES:50354 Hürth Gleuel,Gesundheitspraxis Gildenweg6
END:VEVENT
END:VCALENDAR