BEGIN:VCALENDAR
VERSION:2.0
PRODID:-//der-energieheiler.com - ECPv6.15.18//NONSGML v1.0//EN
CALSCALE:GREGORIAN
METHOD:PUBLISH
X-ORIGINAL-URL:https://www.der-energieheiler.de
X-WR-CALDESC:Veranstaltungen für der-energieheiler.com
REFRESH-INTERVAL;VALUE=DURATION:PT1H
X-Robots-Tag:noindex
X-PUBLISHED-TTL:PT1H
BEGIN:VTIMEZONE
TZID:Europe/Berlin
BEGIN:DAYLIGHT
TZOFFSETFROM:+0100
TZOFFSETTO:+0200
TZNAME:CEST
DTSTART:20250330T010000
END:DAYLIGHT
BEGIN:STANDARD
TZOFFSETFROM:+0200
TZOFFSETTO:+0100
TZNAME:CET
DTSTART:20251026T010000
END:STANDARD
BEGIN:DAYLIGHT
TZOFFSETFROM:+0100
TZOFFSETTO:+0200
TZNAME:CEST
DTSTART:20260329T010000
END:DAYLIGHT
BEGIN:STANDARD
TZOFFSETFROM:+0200
TZOFFSETTO:+0100
TZNAME:CET
DTSTART:20261025T010000
END:STANDARD
BEGIN:DAYLIGHT
TZOFFSETFROM:+0100
TZOFFSETTO:+0200
TZNAME:CEST
DTSTART:20270328T010000
END:DAYLIGHT
BEGIN:STANDARD
TZOFFSETFROM:+0200
TZOFFSETTO:+0100
TZNAME:CET
DTSTART:20271031T010000
END:STANDARD
END:VTIMEZONE
BEGIN:VEVENT
DTSTART;VALUE=DATE:20261204
DTEND;VALUE=DATE:20261207
DTSTAMP:20260420T071937
CREATED:20250121T193206Z
LAST-MODIFIED:20260223T193344Z
UID:8375-1796342400-1796601599@www.der-energieheiler.de
SUMMARY:Schröpfen & Schöpfmassage (trocken) & Gua Sha in Kombination mit therapeutischen Klangschalen Anwendung- Ausleitungsverfahren mit Jochen Radermacher
DESCRIPTION:Schröpfen und Schöpfmassage (trocken) & Gua Sha in Kombination mit therapeutischen Klangschalen Anwendung- Ausleitungsverfahren \nAusbildungsseminar mit Jochen Radermacher\nDas trockene Schröpfen bzw. unblutige Schröpfen erzeugt durch das Aufsetzen von Schröpfköpfen auf der Haut einen Unterdruck. Durch diesen Unterdruck wird die Durchblutung stark angeregt bis stellenweise beabsichtigt Hämatome entstehen\, um muskuläre Verhärtungen und Blockaden im Körper gezielt aufzulösen. Durch die Kombination der trockenen Schröpftechnik mit therapeutischen Klangschalen kann diese Energiearbeit intensiviert\, die Blutergüsse deutlich gemindert und der Auflösungsprozess damit beschleunigt werden. \nDie ersten Anwendungen der Schröpftechnik sollen in Mesopotamien ca. 3300 v.Chr. erfolgt sein und finden sich seitdem in diversen Aufzeichnungen der unterschiedlichsten Epochen immer wieder. Auch aus der heutigen Zeit ist das Schröpfen nicht mehr wegzudenken. Die vielfältigen Einsatzgebiete zur Linderung von Beschwerden\, wie z.B. Bandscheibenproblemen\, Migräne\, Ischias\, Verdauungsprobleme\, um nur einige zu nennen\, machen diese Methode so wertvoll. \nGua Sha (Schaben) ist eine traditionelle Behandlungstechnik\, die in China seit vielen Jahrhunderten praktiziert wird. Mithilfe von Schabern werden Haut\, Muskeln oder Akupunkturpunkte stimuliert. Gua Sha beruht auf der Annahme\, dass das Innere mit dem Äußeren verbunden ist und krankmachende Faktoren so nach außen abgeleitet werden können. Beim Schaben entstehen kleine Petechien (punktförmige Hautblutungen aus den Kapillaren) an der Hautoberfläche. Über diese werden die Giftstoffe aus dem Körper ausgeleitet. Die Stellen\, die am häufigsten behandelt werden\, sind Rücken\, Nacken\, Schultern\, Kopf\, Arme und auch Beine. \nSeminarinhalte: \n\nTheorie zu den Einsatzbereichen und zur Wirkungsweise der Schröpfköpfe und Schaber.\nAnwendungsbereiche und Kontraindikationen.\nAnwendung und Handhabung der Klangschalen.\n\n\nWirbelsäulenaufrichtung durch Schröpfen mit Klang.\n\n  \nDies ist ein praxisorientiertes Seminar\, bei dem jeder Teilnehmer unter fachkundiger Seminarleitung selbst behandelt und behandelt wird. \nGeeignet ist diese Ausbildung für alle Menschen\, die das Schröpfen und Schaben zum eigenen Nutzen anwenden wollen oder als Therapeut\, Arzt\, Heilpraktiker\, Physiotherapeut\, Gesundheits-\, oder Wellness-Berater ihren Patienten und Klienten zu Gute kommen lassen möchten. \nAuch für Wiederholer bietet dieses Seminar durch die vielen Praxisübungen eine gute Vertiefung der Kenntnisse. \nAktuelle Informationen zum Seminar\, den Terminen\, Seminarzeiten und Preise unter  www.der-energieheiler.de/Terminkalender \n \nIm Seminarbeitrag enthalten sind: \n\nWährend des Seminars für Anwendungen: Schröpfsets\, Schaber und Klangschalen. Diese können mit Seminarvergünstigungen erworben werden.\nSeminarunterlagen\n\n\nKaffee\, Tee\, energetisiertes Wasser und kleine Snacks. Mittagspause in Selbstverpflegung.\nSeminarzertifikat.\n\nWeitere Informationen: \n\nBitte mitbringen: Schreibmaterialien\, kleines und großes Handtuch\, warme Socken und gute Laune.\nDresscode: Angenehme lockere/bequeme Kleidung.\nKeine Vorkenntnisse erforderlich!\n\nJeder Teilnehmer trägt die volle eigene Verantwortung für seine Handlungen und Erfahrungen während des Seminars und der Pausen. Eine Haftung des Veranstalters\, Dozenten oder Seminarhauses wird abgelehnt. \nAlle Leistungen des Seminars ersetzen keine ärztlichen oder therapeutischen Behandlungen. Keine Diagnosen. Über diese Klarstellung bin oder werde ich ausreichend vor dem Seminar aufgeklärt. \n  \nAnmeldung: \nSchule für Geist-Körper-Energie-Arbeit\, Gesundheitspraxis Klangraum\nJochen Radermacher\, Gildenweg 6\, 50354 Hürth-Gleuel\, Tel: 0163-1829984\ninfo@der-energieheiler.de \nwww.der-energieheiler.de \n  \nTermine:                          Fr.04. – So.06. Dezemberber 2026 \nSeminarzeiten:            1. Tag: 17:00 – 20:00 Uhr    2.. Tag: 10:00 – 18:00 Uhr Tag: 3. Tag 10:00 – 16:00 Uhr \nSeminargebühr:          € 390\,–incl. 19% MwSt.(62\,27 €) Netto 327\,73 € (Wiederholerrabatt 50%\, Neukundenempfehlungsprämie 10%) \n Im Seminarbeitrag enthalten sind: \n\nWährend des Seminars für Anwendungen: Schröpfsets\, Schaber und Klangschalen. Diese können mit Seminarvergünstigungen erworben werden.\nKaffee\, Tee\, energetisiertes Wasser und kleine Snacks. Mittagspause in Selbstverpflegung. (Auf Wunsch gehen wir gemeinsam raus oder bestellen beim Lieferservice).\nSeminarzertifikat.\n\nWeitere Informationen: \n\nBitte mitbringen: Schreibmaterialien\, kleines und großes Handtuch\, warme Socken und gute Laune.\nDresscode: Angenehme lockere/bequeme Kleidung.\nKeine Vorkenntnisse erforderlich!\n\nJeder Teilnehmer trägt die volle eigene Verantwortung für seine Handlungen und Erfahrungen während des Seminars und der Pausen. Eine Haftung des Veranstalters\, Dozenten oder Seminarhauses wird abgelehnt.\nAlle Leistungen des Seminars ersetzen keine ärztlichen oder therapeutischen Behandlungen. Keine Diagnosen. Über diese Klarstellung bin oder werde ich ausreichend vor dem Seminar aufgeklärt.
URL:https://www.der-energieheiler.de/event/schroepfen-trocken-gua-sha-in-kombination-mit-therapeutischen-klangschalen-anwendung-ausleitungsverfahren/
LOCATION:50354 Hürth Gildenweg 6\, Deutschland
CATEGORIES:50354 Hürth Gleuel
END:VEVENT
BEGIN:VEVENT
DTSTART;TZID=Europe/Berlin:20261212T100000
DTEND;TZID=Europe/Berlin:20261213T180000
DTSTAMP:20260420T071937
CREATED:20221025T144506Z
LAST-MODIFIED:20260223T204702Z
UID:7726-1797069600-1797184800@www.der-energieheiler.de
SUMMARY:Akupunktur ohne Nadeln mit den Magnet-Stiften Hürth 2026
DESCRIPTION:Akupunktur ohne Nadeln mit den\n Magnet-Stiften\n\n\n \n\nZweitägiges Ausbildungsseminar mit Jochen Radermacher\nDie richtige Anwendung von Akupunkturnadeln benötigen ein umfangreiches Wissen und Materialen – die Magnet-Stifte hingegen können unkompliziert und leicht direkt auf der Haut\, aber auch auf Kleidung eingesetzt werden. Der Umgang mit den Magnet-Stiften ist denkbar einfach. Die Effizienz extrem hoch. \nSie sind Arzt\, Physiotherapeut\, Masseur\, Heilpraktiker\, Wellness- oder Gesundheitstrainer\, arbeiten in sonstigen Heilberufen oder wollen die Handhabung der Magnet-Stifte für eine Selbstbehandlung nutzen? \nIn diesem Seminar lernen Sie die einfache Handhabung der Akupunkturstifte. Es wird ausreichend gegenseitig geübt. Am Ende des Seminars können Sie die Stifte zielgerichtet einsetzen: Zur Fremd- und Selbstbehandlung. \nEinsatzbereiche: \nProphylaxe: Die Magnet-Stifte sind ein einfach zu handhabendes Werkzeug\, den Fluss der Lebensenergie wiederherzustellen und ihn aufrecht zu erhalten. \nEntgiftung: Die beste Prophylaxe ist und bleibt die Entgiftung. Da die Magnet-Stiften ein Werkzeug zur Aus- und Ableitung sind\, sind sie auch sehr gut für die Entgiftung des Körpers geeignet. \nNarben entstören: Narben sind energetische Störfelder und können das Wohlbefinden teils erheblich mindern. Sie können beispielsweise immense Energieblockaden und somit chronische Schmerzen auslösen. Mit den Magnet-Stifte ist eine energetische Entstörung möglich! \nHilfe bei Erkrankungen: Alle Krankheiten\, angefangen vom Schnupfen über schwere\, chronische Erkrankungen bis hin zu manifestierten Erkrankungen\, haben ihren Ursprung in der Störung des Energieflusses. Hier können die Magnet-Stifte entscheidend dazu beitragen\, dass die Gesundung durch eine Entstörung des blockierten Energieflusses beschleunigt wird. \nSchmerztherapie: Auch in der Schmerztherapie können die Magnet-Stifte neue Möglichkeiten eröffnen\, denn jeder Schmerz ist quasi ein Schrei des Gewebes nach fliesender Energie. Es ist durchaus möglich\, dass Schmerzen und andere Symptome\, welche sogar über Jahre hinweg andauern\, nach einigen Tagen der Anwendung verschwunden sind. \nMedikamenteneinnahme: Die Magnet-Stifte können auch während der Einnahme von Medikamenten angewendet werden. Bei Problemen innerer Organe oder begleitend zu einer Physiotherapie\, kann die Kombination sogar sehr hilfreich sein. \nAkupunktur ohne Nadeln mit den Magnet-Stiften \nZweitägiges Ausbildungsseminar mit Jochen Radermacher \nIm Seminarbeitrag enthalten sind: \n\numfangreiche Seminarunterlagen und -Anleitungen zur Anwendung der Magnet-Stiften.\n\n\nKaffee\, Tee\, energetisiertes Wasser und kleine Snacks. Mittagspause in Selbstverpflegung.\nSeminarzertifikat.\n\nWeitere Informationen: \n\nDie Magnet-Stifte stehen während des Seminars kostenfrei zur Verfügung und können im Anschluss vergünstig erworben werden.\nBitte mitbringen: Schreibmaterialien\, kleines und großes Handtuch\, warme Socken und gute Laune.\nDresscode: Angenehme lockere/bequeme Kleidung. Bitte Wechselkleidung für die eigene Behandlung mitbringen\, da energetische Prozesse starkes Schwitzen verursachen können.\nKeine Vorkenntnisse erforderlich!\n\nÜbernachtungs-Empfehlungen: Hotel Am Freischütz (500 m) 02233-932330\, Apart-Hotel Scheuer (300 m\, Tel 02233-31059)\, BB Hotel Frechen (2\,5 km) \nJeder Teilnehmer trägt die volle eigene Verantwortung für seine Handlungen und Erfahrungen während des Seminars und der Pausen. Eine Haftung des Veranstalters\, Dozenten oder Seminarhauses wird abgelehnt. \nAlle Leistungen des Seminars ersetzen keine ärztlichen oder therapeutischen Behandlungen. Keine Diagnosen. Über diese Klarstellung bin oder werde ich ausreichend vor dem Seminar aufgeklärt. \n  \nAnmeldung:\nSchule für Geist-Körper-Energie-Arbeit\, Gesundheitspraxis Klangraum\nJochen Radermacher\, Gildenweg 6\, 50354 Hürth-Gleuel\, Tel: 0163-1829984\ninfo@der-energieheiler.de \nwww.der-energieheiler.de \nAnmeldung zum Seminar \nAkupunktur ohne Nadeln mit den Magnet-Stifte \nZweitägiges Ausbildungsseminar mit Jochen Radermacher \nName\, Vorname: _ _ _ _ _ _ _ _ _ _ _ _ _ _ _ _ _ _ _ _ _ __ _ _ _ _ _ _ _ _ _ _ _ _ \nAdresse: _ _ _ _ _ _ _ _ _ _ _ _ _ _ _ _ _ _ _ _ _ _ _ _ _ _ _ __ _ _ _ _ _ _ _ _ _ _ _ \nTelefon: _ _ _ _ _ _ _ _ _ _ _ _ _ _ _ _ _   E-Mail: _ _ _ _ _ _ _ _ _ _ _ _ _ _ _ _ _ _ \n  \nTermine:                    12. + 13. Dezember 2026 \n  \nSeminarzeiten:            1. Tag: 10:00 – 18:00 Uhr    2. Tag: 10:00 – 16:00 Uhr \n  \nVeranstaltungsort:     Schule für Geist-Körper-Energie-Arbeit\, 50354 Hürth Gleuel Gildenweg 6 \n  \nSeminargebühr:          € 333\,–incl. 19% MwSt.(53\,17 €) Netto 279\,83 € (Wiederholerrabatt 50%\, Neukundenempfehlungsprämie 10%) \n  \nIm Seminarbeitrag enthalten sind: \n\numfangreiche Seminarunterlagen und -Anleitungen zur Anwendung der Magnet-Stifte.\n\n\nKaffee\, Tee\, energetisiertes Wasser und kleine Snacks. Mittagspause in Selbstverpflegung. (Auf Wunsch gehen wir gemeinsam raus oder bestellen beim Lieferservice).\nSeminarzertifikat.\n\nWeitere Informationen: \n\nDie Magnet-Stifte stehen während des Seminars kostenfrei zur Verfügung und können im Anschluss vergünstig erworben werden.\nBitte mitbringen: Schreibmaterialien\, kleines und großes Handtuch\, warme Socken und gute Laune.\nDresscode: Angenehme lockere/bequeme Kleidung. Bitte Wechselkleidung für die eigene Behandlung mitbringen\, da energetische Prozesse starkes Schwitzen verursachen können.\nKeine Vorkenntnisse erforderlich!\n\nJeder Teilnehmer trägt die volle eigene Verantwortung für seine Handlungen und Erfahrungen während des Seminars und der Pausen. Eine Haftung des Veranstalters\, Dozenten oder Seminarhauses wird abgelehnt.\nAlle Leistungen des Seminars ersetzen keine ärztlichen oder therapeutischen Behandlungen. Keine Diagnosen. Über diese Klarstellung bin oder werde ich ausreichend vor dem Seminar aufgeklärt. \n  \nOrt _____________________                                     Datum____________ \n  \n__________________________\nverbindliche Unterschrift zur Buchung
URL:https://www.der-energieheiler.de/event/7726/
LOCATION:Gesundheitspraxis-Klangraum\, Gildenweg 6\, Hürth\, NRW\, 50354\, Deutschland
CATEGORIES:Gesundheitspraxis Gildenweg6
END:VEVENT
END:VCALENDAR