BEGIN:VCALENDAR
VERSION:2.0
PRODID:-//der-energieheiler.com - ECPv6.15.18//NONSGML v1.0//EN
CALSCALE:GREGORIAN
METHOD:PUBLISH
X-WR-CALNAME:der-energieheiler.com
X-ORIGINAL-URL:https://www.der-energieheiler.de
X-WR-CALDESC:Veranstaltungen für der-energieheiler.com
REFRESH-INTERVAL;VALUE=DURATION:PT1H
X-Robots-Tag:noindex
X-PUBLISHED-TTL:PT1H
BEGIN:VTIMEZONE
TZID:Europe/Berlin
BEGIN:DAYLIGHT
TZOFFSETFROM:+0100
TZOFFSETTO:+0200
TZNAME:CEST
DTSTART:20250330T010000
END:DAYLIGHT
BEGIN:STANDARD
TZOFFSETFROM:+0200
TZOFFSETTO:+0100
TZNAME:CET
DTSTART:20251026T010000
END:STANDARD
BEGIN:DAYLIGHT
TZOFFSETFROM:+0100
TZOFFSETTO:+0200
TZNAME:CEST
DTSTART:20260329T010000
END:DAYLIGHT
BEGIN:STANDARD
TZOFFSETFROM:+0200
TZOFFSETTO:+0100
TZNAME:CET
DTSTART:20261025T010000
END:STANDARD
BEGIN:DAYLIGHT
TZOFFSETFROM:+0100
TZOFFSETTO:+0200
TZNAME:CEST
DTSTART:20270328T010000
END:DAYLIGHT
BEGIN:STANDARD
TZOFFSETFROM:+0200
TZOFFSETTO:+0100
TZNAME:CET
DTSTART:20271031T010000
END:STANDARD
END:VTIMEZONE
BEGIN:VEVENT
DTSTART;VALUE=DATE:20260418
DTEND;VALUE=DATE:20260420
DTSTAMP:20260419T165918
CREATED:20210711T143221Z
LAST-MODIFIED:20260325T153132Z
UID:6705-1776470400-1776643199@www.der-energieheiler.de
SUMMARY:Akupunktur ohne Nadeln mit den Magnet-Stiften Zweitägiges Ausbildungsseminar Hürth 2026
DESCRIPTION:Akupunktur ohne Nadeln mit den Magnet-Stiften mit Jochen Radermacher\n\nNur noch wenige Plätze frei. Das Seminar findet statt. \n\n\n   \nZweitägiges Ausbildungsseminar mit Jochen Radermacher\nDie richtige Anwendung von Akupunkturnadeln benötigen ein umfangreiches Wissen und Materialen – die Magnet-Stifte hingegen können unkompliziert und leicht direkt auf der Haut\, aber auch auf Kleidung eingesetzt werden. Der Umgang mit den Magnet-Stiften ist denkbar einfach. Die Effizienz extrem hoch. \nSie sind Arzt\, Physiotherapeut\, Masseur\, Heilpraktiker\, Wellness- oder Gesundheitstrainer\, arbeiten in sonstigen Heilberufen oder wollen die Handhabung der Magnet-Stifte für eine Selbstbehandlung nutzen? \nIn diesem Seminar lernen Sie die einfache Handhabung der Akupunkturstifte. Es wird ausreichend gegenseitig geübt. Am Ende des Seminars können Sie die Stifte zielgerichtet einsetzen: Zur Fremd- und Selbstbehandlung. \nEinsatzbereiche: \nProphylaxe: Die Magnet-Stifte sind ein einfach zu handhabendes Werkzeug\, den Fluss der Lebensenergie wiederherzustellen und ihn aufrecht zu erhalten. \nEntgiftung: Die beste Prophylaxe ist und bleibt die Entgiftung. Da die Magnet-Stiften ein Werkzeug zur Aus- und Ableitung sind\, sind sie auch sehr gut für die Entgiftung des Körpers geeignet. \nNarben entstören: Narben sind energetische Störfelder und können das Wohlbefinden teils erheblich mindern. Sie können beispielsweise immense Energieblockaden und somit chronische Schmerzen auslösen. Mit den Magnet-Stifte ist eine energetische Entstörung möglich! \nHilfe bei Erkrankungen: Alle Krankheiten\, angefangen vom Schnupfen über schwere\, chronische Erkrankungen bis hin zu manifestierten Erkrankungen\, haben ihren Ursprung in der Störung des Energieflusses. Hier können die Magnet-Stifte entscheidend dazu beitragen\, dass die Gesundung durch eine Entstörung des blockierten Energieflusses beschleunigt wird. \nSchmerztherapie: Auch in der Schmerztherapie können die Magnet-Stifte neue Möglichkeiten eröffnen\, denn jeder Schmerz ist quasi ein Schrei des Gewebes nach fliesender Energie. Es ist durchaus möglich\, dass Schmerzen und andere Symptome\, welche sogar über Jahre hinweg andauern\, nach einigen Tagen der Anwendung verschwunden sind. \nMedikamenteneinnahme: Die Magnet-Stifte können auch während der Einnahme von Medikamenten angewendet werden. Bei Problemen innerer Organe oder begleitend zu einer Physiotherapie\, kann die Kombination sogar sehr hilfreich sein. \nAkupunktur ohne Nadeln mit den Magnet-Stiften \nZweitägiges Ausbildungsseminar mit Jochen Radermacher \nIm Seminarbeitrag enthalten sind: \n\numfangreiche Seminarunterlagen und -Anleitungen zur Anwendung der Magnetic-Stiften.\n\n\nKaffee\, Tee\, energetisiertes Wasser und kleine Snacks. Mittagspause in Selbstverpflegung\,\noder zusammen zum Marco Polo im Ort jeder zu Selbstkosten.\nSeminarzertifikat.\n\nWeitere Informationen: \n\nDie Magnet-Stifte stehen während des Seminars kostenfrei zur Verfügung und können im Anschluss vergünstig erworben werden.\nBitte mitbringen: Schreibmaterialien\, kleines und großes Handtuch\, warme Socken und gute Laune.\nDresscode: Angenehme lockere/bequeme Kleidung. Bitte Wechselkleidung für die eigene Behandlung mitbringen\, da energetische Prozesse starkes Schwitzen verursachen können.\nKeine Vorkenntnisse erforderlich!\n\nÜbernachtungs-Empfehlungen: \nHotel Am Freischütz (500 m) 02235-93233-0\, Apart-Hotel Scheuer (300 m)\, (Tel 02233-31059)\, BB Hotel Frechen (2\,5 km) 02234208-0 \nJeder Teilnehmer trägt die volle eigene Verantwortung für seine Handlungen und Erfahrungen während des Seminars und der Pausen. Eine Haftung des Veranstalters\, Dozenten oder Seminarhauses wird abgelehnt. \nAlle Leistungen des Seminars ersetzen keine ärztlichen oder therapeutischen Behandlungen. Keine Diagnosen. Über diese Klarstellung bin oder werde ich ausreichend vor dem Seminar aufgeklärt. \n  \n \nAnmeldung: \nSchule für Geist-Körper-Energie-Arbeit\, Gesundheitspraxis Klangraum\nJochen Radermacher\, Gildenweg 6\, 50354 Hürth-Gleuel\, Tel: 0163-1829984\ninfo@der-energieheiler.de \nwww.der-energieheiler.de \nAnmeldung zum Seminar \nAkupunktur ohne Nadeln mit den Magnet-Stifte \nZweitägiges Ausbildungsseminar mit Jochen Radermacher \n  \n  \nName\, Vorname: _ _ _ _ _ _ _ _ _ _ _ _ _ _ _ _ _ _ _ _ _ __ _ _ _ _ _ _ _ _ _ _ _ _ \nAdresse: _ _ _ _ _ _ _ _ _ _ _ _ _ _ _ _ _ _ _ _ _ _ _ _ _ _ _ __ _ _ _ _ _ _ _ _ _ _ _ \nTelefon: _ _ _ _ _ _ _ _ _ _ _ _ _ _ _ _ _   E-Mail: _ _ _ _ _ _ _ _ _ _ _ _ _ _ _ _ _ _ \n  \nTermine:                    18. + 19. April 2026 \n  \nSeminarzeiten:            1. Tag: 10:00 – 18:00 Uhr    2. Tag: 10:00 – 16:00 Uhr \n  \nVeranstaltungsort:     Schule für Geist-Körper-Energie-Arbeit\, 50354 Hürth Gleuel Gildenweg 6 \n  \nSeminargebühr:          € 333\,–incl. 19% MwSt.(53\,17 €) Netto 279\,83 € (Wiederholerrabatt 50%\, Neukundenempfehlungsprämie 10%) \n  \nIm Seminarbeitrag enthalten sind: \n\numfangreiche Seminarunterlagen und -Anleitungen zur Anwendung der Magnet-Stifte.\n\n\nKaffee\, Tee\, energetisiertes Wasser und kleine Snacks. Mittagspause in Selbstverpflegung. (Auf Wunsch gehen wir gemeinsam raus oder bestellen beim Lieferservice).\nSeminarzertifikat.\n\nWeitere Informationen: \n\nDie Magnet-Stifte stehen während des Seminars kostenfrei zur Verfügung und können im Anschluss vergünstig erworben werden.\nBitte mitbringen: Schreibmaterialien\, kleines und großes Handtuch\, warme Socken und gute Laune.\nDresscode: Angenehme lockere/bequeme Kleidung. Bitte Wechselkleidung für die eigene Behandlung mitbringen\, da energetische Prozesse starkes Schwitzen verursachen können.\nKeine Vorkenntnisse erforderlich!\n\nJeder Teilnehmer trägt die volle eigene Verantwortung für seine Handlungen und Erfahrungen während des Seminars und der Pausen. Eine Haftung des Veranstalters\, Dozenten oder Seminarhauses wird abgelehnt.\nAlle Leistungen des Seminars ersetzen keine ärztlichen oder therapeutischen Behandlungen. Keine Diagnosen. Über diese Klarstellung bin oder werde ich ausreichend vor dem Seminar aufgeklärt. \n  \nOrt _____________________                                     Datum____________ \n  \n__________________________\nverbindliche Unterschrift zur Buchung \n 
URL:https://www.der-energieheiler.de/event/6705/
LOCATION:Gesundheitspraxis-Klangraum\, Gildenweg 6\, Hürth\, NRW\, 50354\, Deutschland
CATEGORIES:50354 Hürth Gleuel
END:VEVENT
BEGIN:VEVENT
DTSTART;TZID=Europe/Berlin:20260423T193000
DTEND;TZID=Europe/Berlin:20260423T203000
DTSTAMP:20260419T165918
CREATED:20260223T215622Z
LAST-MODIFIED:20260223T215949Z
UID:8638-1776972600-1776976200@www.der-energieheiler.de
SUMMARY:Tiefenentspannung durch Klangmeditation in Hürth Gleuel mit Jochen Radermacher Exklusiv für maximal 8 Personen Entschleunigung
DESCRIPTION:Tiefenentspannung durch Klangmeditation in Hürth Gleuel mit Jochen Radermacher\n\n\nExklusiv für maximal 8 Personen Entschleunigung \n  \n \n \nRuhig und gleichmäßig erklingen die Klangschalen.\nTiefe innere Ruhe kehrt ein.\nDie Schwingung können Verspannungen Blockaden lösen.\nEin sorgenfreier erholsamer Raum kann entstehen.\nSein kann so schön sein! \n Diese Klangmeditation beginnt mit einer 15-minütige Einführung. Was bewirken der Klang und die Schwingung in meinem Körper? Danach genießen Sie 60 Minuten meditative Klänge mit einer geführten Geschichte. \nBringen Sie bitte eine Unterlage (z.B. Yogamatte)\, Kissen und eine Decke mit um sehr gut zu liegen. Gutes Liegen gute Unterlage ist sehr Wichtig um eine Stunde sehr gut zu liegen und zu Entspannen. Sie können auch gerne einen Liegestuhl für sich mitbringen. \nVeranstaltungsort: 50354 Hürth Gleuel Gildenweg 6\n \nTiefenentspannung durch Klangmeditation\n\nDatum: Montag 30.03.2026\, 19.30 Uhr (Einlass 19:10 Uhr) bis 20:30Uhr\n \nDatum: Donnerstag 23.04.2025\, 19.30 Uhr (Einlass 19:10 Uhr) bis 20:30Uhr \nDatum: Freitag 04.09.2026\, 18:30 Uhr (Einlass 18:00 Uhr) bis 19:45 Uhr Gongkonzert in der Kirche\nAttendorn Lichtringhausen Kirche Außergewöhnliche Besondere Veranstaltung Einzigartig\n  \nAnmeldung bei:     \nDie Gesundheitspraxis-Klangraum \nSchule für Geistige-Körper-Energie-Arbeit\nJochen Radermacher\, Gildenweg 6\, 50354 Hürth Gleuel            (Tel: 0163-1829984)\nE-Mail: info@der-energieheiler.de                                                        Internet: www.Der-Energieheiler.de
URL:https://www.der-energieheiler.de/event/tiefenentspannung-durch-klangmeditation-in-huerth-gleuel-mit-jochen-radermacher-3/
LOCATION:50354 Hürth Gildenweg 6\, Deutschland
CATEGORIES:50354 Hürth Gleuel
END:VEVENT
BEGIN:VEVENT
DTSTART;VALUE=DATE:20260424
DTEND;VALUE=DATE:20260427
DTSTAMP:20260419T165918
CREATED:20220913T191959Z
LAST-MODIFIED:20260325T153053Z
UID:7704-1776988800-1777247999@www.der-energieheiler.de
SUMMARY:Der Gong I. spielen\,er ist der Spiegel der Seele - Ursachen und Wirkung - in Hürth
DESCRIPTION:Der Gong ist der Spiegel der Seele – Ursachen und Wirkung –\nAusbildungsseminar mit Jochen Radermacher\nNur noch wenige Plätze frei. Das Seminar findet statt. \n \nBereits seit Jahrtausenden ist die heilende und meditative Wirkung von Gongklängen auf den menschlichen Organismus bekannt. Studien geben Hinweise auf eine positive Stressverarbeitung im Körper. Mit der richtigen Anschlagtechnik kann der Gong eine Alphaschwingung im Gehirn auslösen. Dann entsteht eine ruhige\, gelassene\, entspannte Konzentration. In diesem tiefenentspannten Alphazustand kann es zu einer Aktivierung der Selbstheilungskräfte in unserem Organismus kommen. \nDer Alphazustand führt dich über die Brücke vom Bewusstsein zum Unterbewusstsein in einen meditativen Zustand. In dieser Stille gibt es einen Raum des Loslassens und der Entspannung\, so dass innere Ruhe einkehren kann. \nDies findet mühelos statt! \n Seminarinhalte: \n\nTheorie des Gongspielens\n\n\nUmgang mit div. Gong-Arten: Tam Tam\, Fen Gong\, Gongs von 20 cm bis 115 cm Durchmesser\nAnwendung verschiedener Gongklöppel\nAnschlagtechniken: Arten\, Einsatzmöglichkeiten\, Wirkungsweisen\nFreies experimentelles Üben auf den Gongs\nAnschlagen im Alpha- Rhythmus und Spielen über längeren Zeitraum\, z.B. für Klangmeditation\nErleben- planen- durchführen eines Gong-Klangbades\nGestaltung einer Klangmeditation: Einleitung – Hauptteil – Ende\n\nIm Seminar werden theoretische Kenntnisse direkt praktisch umgesetzt und intensiv geübt. Auch für Wiederholer bietet dieses Seminar durch die vielen Praxisübungen eine gute Vertiefung der Kenntnisse. \nEs besteht die Möglichkeit aus einer Fülle verschiedener Gongs einen auszusuchen und zu kaufen. \nIn der Seminargebühr enthalten sind: \n\nSeminarunterlagen und Seminarmaterialen (Bereitstellung von Gongs und Zubehör\, welches mit Seminarvergünstigung erworben werden kann).\nKaffee\, Tee\, energetisiertes Wasser und kleine Snacks incl.. Mittagspause in Selbstverpflegung. (Auf Wunsch gehen wir gemeinsam raus oder bestellen beim Lieferservice).\nSeminarzertifikat\n\nWeitere Informationen: \n\nBitte mitbringen: Schreibmaterialien\, warme Decke und Socken sowie gute Laune.\nDresscode: Angenehme lockere/ bequeme/ möglichst geräuschfreie Kleidung.\nKeine Voraussetzung notwendig!\nAuf dieses Seminar bauen „Gong II und III“ auf.\n\n  \nJeder Teilnehmer trägt die volle eigene Verantwortung für seine Handlungen und Erfahrungen während des Seminars und der Pausen. Eine Haftung des Veranstalters\, Dozenten oder Seminarhauses wird abgelehnt. \nAlle Leistungen des Seminars ersetzen keine ärztlichen oder therapeutischen Behandlungen. Keine Diagnosen. Über diese Klarstellung bin oder werde ich ausreichend vor dem Seminar aufgeklärt. \nAnmeldung:\nGesundheitspraxis Klangraum\nSchule für Geist-Körper-Energie-Arbeit\nJochen Radermacher\, Gildenweg 6\, 50354 Hürth-Gleuel\, Tel: 0163-1829984\ninfo@der-energieheiler.de \nwww.der-energieheiler.de \n \n\nAnmeldung zum Seminar \nGong I – Grundlagenseminar \nZweitägiges Ausbildungsseminar mit Jochen Radermacher \nName\, Vorname: _ _ _ _ _ _ _ _ _ _ _ _ _ _ _ _ _ _ _ _ _ __ _ _ _ _ _ _ _ _ _ _ \n  \nAdresse: _ _ _ _ _ _ _ _ _ _ _ _ _ _ _ _ _ _ _ _ _ _ _ _ _ _ _ __ _ _ _ _ _ _ _ _ \n  \nTelefon: _ _ _ _ _ _ _ _ _ _ _ _ _ _ _ _ _   E-Mail: _ _ _ _ _ _ _ _ _ _ _ _ _ _ _ _ _ _ \n  \nTermin:                          24. – 26. April 2026 \n  \nSeminarzeiten:            1. /Tag: 14:00 – 18:00 Uhr 2. Tag: 10:00 – 18:00 Uhr     3./Tag: 10:00 – 17:00 Uhr \n  \nVeranstaltungsort:   Schule für Geist- Körper-Energie-Arbeit\, Gildenweg 6\, 50354 Hürth-Gleuel \n  \nSeminargebühr:          € 390\,– incl. 19% MwSt. (Wiederholerrabatt 50%; Neukundenempfehlungsprämie 10%) \n  \nIn der Seminargebühr enthalten sind: \n\nSeminarunterlagen und Seminarmaterialen (Bereitstellung von Gongs und Zubehör\, welches mit Seminarvergünstigung erworben werden kann).\nKaffee\, Tee\, energetisiertes Wasser und kleine Snacks. Mittagspause in Selbstverpflegung. (Auf Wunsch gehen wir gemeinsam raus oder bestellen beim Lieferservice.)\n\n\nWeitere Informationen: \n\nBitte mitbringen: Schreibmaterialien\, warme Decke und Socken sowie gute Laune.\nDresscode: Angenehme lockere/ bequeme/ möglichst geräuschfreie Kleidung.\nKeine Voraussetzung notwendig!\nAuf dieses Seminar bauen „Gong II und III“ auf.\n\nÜbernachtungs-Empfehlungen: Hotel Am Freischütz (500 m)\, Apart-Hotel Scheuer (300 m\, Tel 02233-31059)\, BB Hotel Frechen (2\,5 km) \nJeder Teilnehmer trägt die volle eigene Verantwortung für seine Handlungen und Erfahrungen während des Seminars und der Pausen. Eine Haftung des Veranstalters\, Dozenten oder Seminarhauses wird abgelehnt. \nAlle Leistungen des Seminars ersetzen keine ärztlichen oder therapeutischen Behandlungen. Keine Diagnosen. Über diese Klarstellung bin oder werde ich ausreichend vor dem Seminar aufgeklärt. \n  \nOrt _____________________                                     Datum ___________ \n  \n  \n_____________________________ \nverbindliche Unterschrift zur Buchung
URL:https://www.der-energieheiler.de/event/der-gong-i-ist-der-spiegel-der-seele-ursachen-und-wirkung/
LOCATION:Gesundheitspraxis-Klangraum\, Gildenweg 6\, Hürth\, NRW\, 50354\, Deutschland
CATEGORIES:50354 Hürth Gleuel
END:VEVENT
END:VCALENDAR